BEGIN:VCALENDAR
VERSION:2.0
PRODID:-//Feng shui Maria Jose Bonet - ECPv6.3.7//NONSGML v1.0//EN
CALSCALE:GREGORIAN
METHOD:PUBLISH
X-WR-CALNAME:Feng shui Maria Jose Bonet
X-ORIGINAL-URL:https://fengshuimariajosebonet.com
X-WR-CALDESC:Eventos para Feng shui Maria Jose Bonet
REFRESH-INTERVAL;VALUE=DURATION:PT1H
X-Robots-Tag:noindex
X-PUBLISHED-TTL:PT1H
BEGIN:VTIMEZONE
TZID:UTC
BEGIN:STANDARD
TZOFFSETFROM:+0000
TZOFFSETTO:+0000
TZNAME:UTC
DTSTART:20260101T000000
END:STANDARD
END:VTIMEZONE
BEGIN:VEVENT
DTSTART;TZID=UTC:20260211T093000
DTEND;TZID=UTC:20260211T093000
DTSTAMP:20260419T174233
CREATED:20260204T180316Z
LAST-MODIFIED:20260204T180316Z
UID:9874-1770802200-1770802200@fengshuimariajosebonet.com
SUMMARY:Feng shui 1 nivel
DESCRIPTION:MJB – FS septiembre MJB
URL:https://fengshuimariajosebonet.com/event/feng-shui-1-nivel-3/
END:VEVENT
BEGIN:VEVENT
DTSTART;TZID=UTC:20260212T100000
DTEND;TZID=UTC:20260212T130000
DTSTAMP:20260419T174233
CREATED:20260204T180559Z
LAST-MODIFIED:20260204T180559Z
UID:9880-1770890400-1770901200@fengshuimariajosebonet.com
SUMMARY:Feng shui mental
DESCRIPTION:
URL:https://fengshuimariajosebonet.com/event/feng-shui-mental-3/
END:VEVENT
BEGIN:VEVENT
DTSTART;TZID=UTC:20260218T093000
DTEND;TZID=UTC:20260218T120000
DTSTAMP:20260419T174233
CREATED:20260204T180423Z
LAST-MODIFIED:20260204T180423Z
UID:9876-1771407000-1771416000@fengshuimariajosebonet.com
SUMMARY:Feng shui 1 nivel
DESCRIPTION:MJB – FS septiembre MJB
URL:https://fengshuimariajosebonet.com/event/feng-shui-1-nivel-4/
END:VEVENT
BEGIN:VEVENT
DTSTART;TZID=UTC:20260223T093000
DTEND;TZID=UTC:20260223T120000
DTSTAMP:20260419T174233
CREATED:20260204T180650Z
LAST-MODIFIED:20260204T180650Z
UID:9882-1771839000-1771848000@fengshuimariajosebonet.com
SUMMARY:Feng shui mental
DESCRIPTION:
URL:https://fengshuimariajosebonet.com/event/feng-shui-mental-4/
END:VEVENT
BEGIN:VEVENT
DTSTART;TZID=UTC:20260225T093000
DTEND;TZID=UTC:20260225T120000
DTSTAMP:20260419T174233
CREATED:20260204T180512Z
LAST-MODIFIED:20260204T180512Z
UID:9878-1772011800-1772020800@fengshuimariajosebonet.com
SUMMARY:Feng shui 1 nivel
DESCRIPTION:MJB – FS septiembre MJB
URL:https://fengshuimariajosebonet.com/event/feng-shui-1-nivel-5/
END:VEVENT
END:VCALENDAR