BEGIN:VCALENDAR
VERSION:2.0
PRODID:-//Feng shui Maria Jose Bonet - ECPv6.3.7//NONSGML v1.0//EN
CALSCALE:GREGORIAN
METHOD:PUBLISH
X-WR-CALNAME:Feng shui Maria Jose Bonet
X-ORIGINAL-URL:https://fengshuimariajosebonet.com
X-WR-CALDESC:Eventos para Feng shui Maria Jose Bonet
REFRESH-INTERVAL;VALUE=DURATION:PT1H
X-Robots-Tag:noindex
X-PUBLISHED-TTL:PT1H
BEGIN:VTIMEZONE
TZID:UTC
BEGIN:STANDARD
TZOFFSETFROM:+0000
TZOFFSETTO:+0000
TZNAME:UTC
DTSTART:20250101T000000
END:STANDARD
END:VTIMEZONE
BEGIN:VEVENT
DTSTART;TZID=UTC:20250405T100000
DTEND;TZID=UTC:20250405T133000
DTSTAMP:20260420T075925
CREATED:20250323T113642Z
LAST-MODIFIED:20250323T113642Z
UID:6231-1743847200-1743859800@fengshuimariajosebonet.com
SUMMARY:Feng Shui aplicado a la empresa
DESCRIPTION:FENG SHUI APLICADO A LA EMPRESA Curso Online\n¡Tu empresa está en tus manos! 🌿💫 \nSábado 5 abril de 16 a 20 h\nM José Bonet\n@Feng Shui María José Bonet \n📩 Escríbete\, para más información \nℹ️ +34 65588 09 00 \nℹ️https://www.fengshuieuropa.com/events/curso-feng-shui-empresa-abril-2025-online-mjb/ \n\nhttps://fengshuimariajosebonet.com/wp-content/uploads/2025/03/empresa5abril.mp4
URL:https://fengshuimariajosebonet.com/event/feng-shui-aplicado-a-la-empresa/
ATTACH;FMTTYPE=image/jpeg:https://fengshuimariajosebonet.com/wp-content/uploads/2025/03/WhatsApp-Image-2025-03-09-at-17.50.21.jpeg
END:VEVENT
END:VCALENDAR