BEGIN:VCALENDAR
VERSION:2.0
PRODID:-//Feng shui Maria Jose Bonet - ECPv6.3.7//NONSGML v1.0//EN
CALSCALE:GREGORIAN
METHOD:PUBLISH
X-WR-CALNAME:Feng shui Maria Jose Bonet
X-ORIGINAL-URL:https://fengshuimariajosebonet.com
X-WR-CALDESC:Eventos para Feng shui Maria Jose Bonet
REFRESH-INTERVAL;VALUE=DURATION:PT1H
X-Robots-Tag:noindex
X-PUBLISHED-TTL:PT1H
BEGIN:VTIMEZONE
TZID:UTC
BEGIN:STANDARD
TZOFFSETFROM:+0000
TZOFFSETTO:+0000
TZNAME:UTC
DTSTART:20240101T000000
END:STANDARD
END:VTIMEZONE
BEGIN:VEVENT
DTSTART;TZID=UTC:20240808T200000
DTEND;TZID=UTC:20240808T210000
DTSTAMP:20260422T192656
CREATED:20240730T093644Z
LAST-MODIFIED:20240730T093644Z
UID:6160-1723147200-1723150800@fengshuimariajosebonet.com
SUMMARY:Master Class para emprendedoras
DESCRIPTION:
URL:https://fengshuimariajosebonet.com/event/master-class-para-emprendedoras/
END:VEVENT
END:VCALENDAR