BEGIN:VCALENDAR
VERSION:2.0
PRODID:-//Feng shui Maria Jose Bonet - ECPv6.3.7//NONSGML v1.0//EN
CALSCALE:GREGORIAN
METHOD:PUBLISH
X-ORIGINAL-URL:https://fengshuimariajosebonet.com
X-WR-CALDESC:Eventos para Feng shui Maria Jose Bonet
REFRESH-INTERVAL;VALUE=DURATION:PT1H
X-Robots-Tag:noindex
X-PUBLISHED-TTL:PT1H
BEGIN:VTIMEZONE
TZID:UTC
BEGIN:STANDARD
TZOFFSETFROM:+0000
TZOFFSETTO:+0000
TZNAME:UTC
DTSTART:20190101T000000
END:STANDARD
END:VTIMEZONE
BEGIN:VEVENT
DTSTART;TZID=UTC:20200223T100000
DTEND;TZID=UTC:20200223T133000
DTSTAMP:20260420T035251
CREATED:20200211T172055Z
LAST-MODIFIED:20200211T172055Z
UID:3649-1582452000-1582464600@fengshuimariajosebonet.com
SUMMARY:
DESCRIPTION:
URL:https://fengshuimariajosebonet.com/event/3649/
END:VEVENT
BEGIN:VEVENT
DTSTART;TZID=UTC:20200222T160000
DTEND;TZID=UTC:20200222T200000
DTSTAMP:20260420T035251
CREATED:20200211T172004Z
LAST-MODIFIED:20200211T172004Z
UID:3646-1582387200-1582401600@fengshuimariajosebonet.com
SUMMARY:Iniciación al Feng Shui
DESCRIPTION:
URL:https://fengshuimariajosebonet.com/event/iniciacion-al-feng-shui-5/
END:VEVENT
BEGIN:VEVENT
DTSTART;TZID=UTC:20200222T100000
DTEND;TZID=UTC:20200222T190000
DTSTAMP:20260420T035251
CREATED:20200113T121445Z
LAST-MODIFIED:20200113T121445Z
UID:3629-1582365600-1582398000@fengshuimariajosebonet.com
SUMMARY:Curso 1º nivel de Feng Shui
DESCRIPTION:
URL:https://fengshuimariajosebonet.com/event/curso-1o-nivel-de-feng-shui/
END:VEVENT
BEGIN:VEVENT
DTSTART;TZID=UTC:20200208T160000
DTEND;TZID=UTC:20200208T193000
DTSTAMP:20260420T035251
CREATED:20200127T120510Z
LAST-MODIFIED:20200127T120510Z
UID:3636-1581177600-1581190200@fengshuimariajosebonet.com
SUMMARY:Feng shui habitacion de 0 a 18 años
DESCRIPTION:
URL:https://fengshuimariajosebonet.com/event/feng-shui-habitacion-de-0-a-18-anos/
END:VEVENT
BEGIN:VEVENT
DTSTART;TZID=UTC:20200207T080000
DTEND;TZID=UTC:20200207T110000
DTSTAMP:20260420T035251
CREATED:20200211T172256Z
LAST-MODIFIED:20200211T172256Z
UID:3651-1581062400-1581073200@fengshuimariajosebonet.com
SUMMARY:Conferencia Autovaloración
DESCRIPTION:
URL:https://fengshuimariajosebonet.com/event/conferencia-autovaloracion/
END:VEVENT
BEGIN:VEVENT
DTSTART;TZID=UTC:20200206T093000
DTEND;TZID=UTC:20200206T133000
DTSTAMP:20260420T035251
CREATED:20200127T115853Z
LAST-MODIFIED:20200127T115853Z
UID:3634-1580981400-1580995800@fengshuimariajosebonet.com
SUMMARY:Introduccion al feng shui 1º nivel
DESCRIPTION:
URL:https://fengshuimariajosebonet.com/event/introduccion-al-feng-shui-1o-nivel/
END:VEVENT
BEGIN:VEVENT
DTSTART;TZID=UTC:20200204T093000
DTEND;TZID=UTC:20200204T133000
DTSTAMP:20260420T035251
CREATED:20200127T115741Z
LAST-MODIFIED:20200127T115741Z
UID:3632-1580808600-1580823000@fengshuimariajosebonet.com
SUMMARY:introduccion feng shui 1º nivel
DESCRIPTION:
URL:https://fengshuimariajosebonet.com/event/introduccion-feng-shui-1o-nivel/
END:VEVENT
BEGIN:VEVENT
DTSTART;TZID=UTC:20200126T100000
DTEND;TZID=UTC:20200126T190000
DTSTAMP:20260420T035251
CREATED:20200113T115935Z
LAST-MODIFIED:20200113T115935Z
UID:3625-1580032800-1580065200@fengshuimariajosebonet.com
SUMMARY:2º nivel de Feng Shui
DESCRIPTION:
URL:https://fengshuimariajosebonet.com/event/2o-nivel-de-feng-shui-2/
END:VEVENT
BEGIN:VEVENT
DTSTART;VALUE=DATE:20200125
DTEND;VALUE=DATE:20200126
DTSTAMP:20260420T035251
CREATED:20200113T115746Z
LAST-MODIFIED:20200113T115746Z
UID:3623-1579910400-1579996799@fengshuimariajosebonet.com
SUMMARY:Curso Feng Shui 1º Nivel
DESCRIPTION:
URL:https://fengshuimariajosebonet.com/event/curso-feng-shui-1o-nivel/
END:VEVENT
BEGIN:VEVENT
DTSTART;TZID=UTC:20200118T160000
DTEND;TZID=UTC:20200118T200000
DTSTAMP:20260420T035251
CREATED:20200105T171258Z
LAST-MODIFIED:20200105T171258Z
UID:3620-1579363200-1579377600@fengshuimariajosebonet.com
SUMMARY:Feng Shui para empresarios
DESCRIPTION:
URL:https://fengshuimariajosebonet.com/event/feng-shui-para-empresarios-4/
END:VEVENT
BEGIN:VEVENT
DTSTART;TZID=UTC:20200113T100000
DTEND;TZID=UTC:20200113T190000
DTSTAMP:20260420T035251
CREATED:20200113T120908Z
LAST-MODIFIED:20200113T120908Z
UID:3627-1578909600-1578942000@fengshuimariajosebonet.com
SUMMARY:2º nivel de Feng Shui espacio función
DESCRIPTION:
URL:https://fengshuimariajosebonet.com/event/2o-nivel-de-feng-shui-espacio-funcion/
END:VEVENT
BEGIN:VEVENT
DTSTART;TZID=UTC:20200111T180000
DTEND;TZID=UTC:20200111T193000
DTSTAMP:20260420T035251
CREATED:20200105T114522Z
LAST-MODIFIED:20200105T114522Z
UID:3617-1578765600-1578771000@fengshuimariajosebonet.com
SUMMARY:Claves del Feng Shui para la prosperidad
DESCRIPTION:
URL:https://fengshuimariajosebonet.com/event/claves-del-feng-shui-para-la-prosperidad/
END:VEVENT
BEGIN:VEVENT
DTSTART;TZID=UTC:20191211T190000
DTEND;TZID=UTC:20191211T210000
DTSTAMP:20260420T035251
CREATED:20191113T172509Z
LAST-MODIFIED:20191113T172509Z
UID:3603-1576090800-1576098000@fengshuimariajosebonet.com
SUMMARY:Feng Shui y la navidad
DESCRIPTION:
URL:https://fengshuimariajosebonet.com/event/feng-shui-y-la-navidad-2/
END:VEVENT
BEGIN:VEVENT
DTSTART;TZID=UTC:20191211T183000
DTEND;TZID=UTC:20191211T210000
DTSTAMP:20260420T035251
CREATED:20191203T164227Z
LAST-MODIFIED:20191203T164227Z
UID:3610-1576089000-1576098000@fengshuimariajosebonet.com
SUMMARY:Feng Shui y la Navidad
DESCRIPTION:
URL:https://fengshuimariajosebonet.com/event/feng-shui-y-la-navidad-3/
END:VEVENT
BEGIN:VEVENT
DTSTART;TZID=UTC:20191130T160000
DTEND;TZID=UTC:20191130T190000
DTSTAMP:20260420T035251
CREATED:20191022T173417Z
LAST-MODIFIED:20191022T173417Z
UID:3593-1575129600-1575140400@fengshuimariajosebonet.com
SUMMARY:Feng shui y la navidad
DESCRIPTION:
URL:https://fengshuimariajosebonet.com/event/feng-shui-y-la-navidad/
END:VEVENT
BEGIN:VEVENT
DTSTART;TZID=UTC:20191123T160000
DTEND;TZID=UTC:20191123T190000
DTSTAMP:20260420T035251
CREATED:20191113T171723Z
LAST-MODIFIED:20191113T171723Z
UID:3601-1574524800-1574535600@fengshuimariajosebonet.com
SUMMARY:Presncial Feng Shui y la navidad
DESCRIPTION:
URL:https://fengshuimariajosebonet.com/event/presncial-feng-shui-y-la-navidad/
END:VEVENT
BEGIN:VEVENT
DTSTART;TZID=UTC:20191117T093000
DTEND;TZID=UTC:20191117T133000
DTSTAMP:20260420T035251
CREATED:20191113T171410Z
LAST-MODIFIED:20191113T171410Z
UID:3599-1573983000-1573997400@fengshuimariajosebonet.com
SUMMARY:Introduccion al feng shui 4 horas presencial
DESCRIPTION:
URL:https://fengshuimariajosebonet.com/event/introduccion-al-feng-shui-4-horas-presencial/
LOCATION:Almansa\, Federico Garcia Lorca n25\, Albacete\, Albacete\, España
END:VEVENT
BEGIN:VEVENT
DTSTART;TZID=UTC:20191109T160000
DTEND;TZID=UTC:20191109T193000
DTSTAMP:20260420T035251
CREATED:20191022T152251Z
LAST-MODIFIED:20191022T152251Z
UID:3589-1573315200-1573327800@fengshuimariajosebonet.com
SUMMARY:Feng Shui  habitacion de niños de 0 a 18 años
DESCRIPTION:
URL:https://fengshuimariajosebonet.com/event/feng-shui-habitacion-de-ninos-de-0-a-18-anos/
END:VEVENT
BEGIN:VEVENT
DTSTART;TZID=UTC:20191026T153000
DTEND;TZID=UTC:20191027T133000
DTSTAMP:20260420T035251
CREATED:20191022T151653Z
LAST-MODIFIED:20191022T151653Z
UID:3586-1572103800-1572183000@fengshuimariajosebonet.com
SUMMARY:Introducción al Feng Shui 1 nivel presencial
DESCRIPTION:
URL:https://fengshuimariajosebonet.com/event/introduccion-al-feng-shui-1-nivel-presencial/
END:VEVENT
BEGIN:VEVENT
DTSTART;TZID=UTC:20190829T100000
DTEND;TZID=UTC:20190829T100000
DTSTAMP:20260420T035251
CREATED:20190726T110109Z
LAST-MODIFIED:20190726T110109Z
UID:3557-1567072800-1567072800@fengshuimariajosebonet.com
SUMMARY:Feng Shui para empresarios- negocios
DESCRIPTION:
URL:https://fengshuimariajosebonet.com/event/feng-shui-para-empresarios-negocios/
END:VEVENT
BEGIN:VEVENT
DTSTART;TZID=UTC:20190827T100000
DTEND;TZID=UTC:20190827T140000
DTSTAMP:20260420T035251
CREATED:20190726T104327Z
LAST-MODIFIED:20190726T104327Z
UID:3555-1566900000-1566914400@fengshuimariajosebonet.com
SUMMARY:curso de Feng Shui 1 nivel
DESCRIPTION:
URL:https://fengshuimariajosebonet.com/event/curso-de-feng-shui-1-nivel-3/
END:VEVENT
BEGIN:VEVENT
DTSTART;TZID=UTC:20190826T100000
DTEND;TZID=UTC:20190826T140000
DTSTAMP:20260420T035251
CREATED:20190726T104213Z
LAST-MODIFIED:20190726T104432Z
UID:3553-1566813600-1566828000@fengshuimariajosebonet.com
SUMMARY:Curso de Feng Shui 1 nivel
DESCRIPTION:
URL:https://fengshuimariajosebonet.com/event/curso-de-feng-shui-1-nivel-2/
END:VEVENT
BEGIN:VEVENT
DTSTART;TZID=UTC:20190809T100000
DTEND;TZID=UTC:20190809T190000
DTSTAMP:20260420T035251
CREATED:20190722T152629Z
LAST-MODIFIED:20190722T152629Z
UID:3547-1565344800-1565377200@fengshuimariajosebonet.com
SUMMARY:2º nivel de feng shui
DESCRIPTION:
URL:https://fengshuimariajosebonet.com/event/2o-nivel-de-feng-shui/
END:VEVENT
BEGIN:VEVENT
DTSTART;TZID=UTC:20190807T100000
DTEND;TZID=UTC:20190807T190000
DTSTAMP:20260420T035251
CREATED:20190722T152533Z
LAST-MODIFIED:20190722T152533Z
UID:3545-1565172000-1565204400@fengshuimariajosebonet.com
SUMMARY:1º Nivel de feng shui
DESCRIPTION:
URL:https://fengshuimariajosebonet.com/event/1o-nivel-de-feng-shui/
LOCATION:Almansa\, Federico Garcia Lorca n25\, Albacete\, Albacete\, España
END:VEVENT
BEGIN:VEVENT
DTSTART;TZID=UTC:20190806T100000
DTEND;TZID=UTC:20190806T140000
DTSTAMP:20260420T035251
CREATED:20190726T103620Z
LAST-MODIFIED:20190726T103620Z
UID:3551-1565085600-1565100000@fengshuimariajosebonet.com
SUMMARY:Curso de Feng Shui
DESCRIPTION:
URL:https://fengshuimariajosebonet.com/event/curso-de-feng-shui-3/
END:VEVENT
BEGIN:VEVENT
DTSTART;TZID=UTC:20190805T100000
DTEND;TZID=UTC:20190805T140000
DTSTAMP:20260420T035251
CREATED:20190726T103438Z
LAST-MODIFIED:20190726T103438Z
UID:3549-1564999200-1565013600@fengshuimariajosebonet.com
SUMMARY:Curso de Feng Shui 1 nivel
DESCRIPTION:
URL:https://fengshuimariajosebonet.com/event/curso-de-feng-shui-1-nivel/
END:VEVENT
BEGIN:VEVENT
DTSTART;TZID=UTC:20190727T100000
DTEND;TZID=UTC:20190727T190000
DTSTAMP:20260420T035251
CREATED:20190718T164851Z
LAST-MODIFIED:20190718T164851Z
UID:3543-1564221600-1564254000@fengshuimariajosebonet.com
SUMMARY:Feng Shui nivel 2º
DESCRIPTION:
URL:https://fengshuimariajosebonet.com/event/feng-shui-nivel-2o/
LOCATION:Alginet\, sant josep 60\, Alginet\, 46230\, España
END:VEVENT
BEGIN:VEVENT
DTSTART;TZID=UTC:20190722T100000
DTEND;TZID=UTC:20190723T140000
DTSTAMP:20260420T035251
CREATED:20190718T164740Z
LAST-MODIFIED:20190718T164740Z
UID:3541-1563789600-1563890400@fengshuimariajosebonet.com
SUMMARY:Feng Shui nivel 1º
DESCRIPTION:
URL:https://fengshuimariajosebonet.com/event/feng-shui-nivel-1o/
END:VEVENT
BEGIN:VEVENT
DTSTART;TZID=UTC:20190716T100000
DTEND;TZID=UTC:20190716T133000
DTSTAMP:20260420T035251
CREATED:20190614T165748Z
LAST-MODIFIED:20190614T165748Z
UID:3530-1563271200-1563283800@fengshuimariajosebonet.com
SUMMARY:Feng Shui para habitaciones de niños de 0 a 18 años
DESCRIPTION:
URL:https://fengshuimariajosebonet.com/event/feng-shui-para-habitaciones-de-ninos-de-0-a-18-anos/
LOCATION:Alginet\, sant josep 60\, Alginet\, 46230\, España
END:VEVENT
BEGIN:VEVENT
DTSTART;TZID=UTC:20190712T150000
DTEND;TZID=UTC:20190712T163000
DTSTAMP:20260420T035251
CREATED:20190614T164546Z
LAST-MODIFIED:20190614T164546Z
UID:3528-1562943600-1562949000@fengshuimariajosebonet.com
SUMMARY:Feng Shui para negocio
DESCRIPTION:
URL:https://fengshuimariajosebonet.com/event/feng-shui-para-negocio-2/
END:VEVENT
END:VCALENDAR