BEGIN:VCALENDAR
VERSION:2.0
PRODID:-//Feng shui Maria Jose Bonet - ECPv6.3.7//NONSGML v1.0//EN
CALSCALE:GREGORIAN
METHOD:PUBLISH
X-ORIGINAL-URL:https://fengshuimariajosebonet.com
X-WR-CALDESC:Eventos para Feng shui Maria Jose Bonet
REFRESH-INTERVAL;VALUE=DURATION:PT1H
X-Robots-Tag:noindex
X-PUBLISHED-TTL:PT1H
BEGIN:VTIMEZONE
TZID:UTC
BEGIN:STANDARD
TZOFFSETFROM:+0000
TZOFFSETTO:+0000
TZNAME:UTC
DTSTART:20250101T000000
END:STANDARD
END:VTIMEZONE
BEGIN:VEVENT
DTSTART;TZID=UTC:20250806T093000
DTEND;TZID=UTC:20250806T130000
DTSTAMP:20260419T204141
CREATED:20250627T101452Z
LAST-MODIFIED:20250627T101452Z
UID:6319-1754472600-1754485200@fengshuimariajosebonet.com
SUMMARY:Feng shui habitación por habitación
DESCRIPTION:CURSO PRÁCTICO ONLINE para corregir y potenciar cada habitación de tu casa. \nAprende a crear espacios que eliminen obstáculos y favorezcan tus objetivos \n\nEsencia de cada habitación y su papel en Feng Shui.\nBaño.\nCocina.\nDormitorio.\nSalón.\nEstudio\nLa habitación según el área del bagua.\nSoluciones según la habitación y área del bagua.\nEjercicios\, diagnósticos y prácticas..\n\nAprende de forma fácil y completamente aplicable como elevar cada habitación de tu casa a su máximo nivel. \nUn curso orientado a reconocer los elementos desarmónicos y convertirlos en factores nutrientes de paz equilibrio y prosperidad. Cambia tu casa para cambiar tu vida \nCurso Feng Shui Habitación por habitación -INTENSIVO directo ON LINE – 6 y 7 agosto
URL:https://fengshuimariajosebonet.com/event/feng-shui-habitacion-por-habitacion-9/
END:VEVENT
BEGIN:VEVENT
DTSTART;TZID=UTC:20250805T093000
DTEND;TZID=UTC:20250805T130000
DTSTAMP:20260419T204141
CREATED:20250627T101244Z
LAST-MODIFIED:20250627T101244Z
UID:6317-1754386200-1754398800@fengshuimariajosebonet.com
SUMMARY:Las bases del feng shui
DESCRIPTION:LAs bases del feng shui\n\nAgosto 2 @ 9:30 am – 13:00 pm\neuro150 \n\n\n\n\nUn curso práctico donde aprenderás a crear espacios que elimines obstáculos y favorezcan tus objetivos\n\n\nAprende desde la base\n\n\nCrear tu espacio eliminando obstáculos\nFavorecer tus objetivos\nA reconocer los elementos desarmónicos\nConvertir tu hogar en una casa de paz equilibrio y prosperidad\nArmoniza tu hogar así armonizarás tu vida y la de tu familia\nlunes y martes 4-5 agosto2025\n\n\nHorario: De 9\,30 a 13h horas\n\n\nInstructor: M José Bonet Canet\n655 88 09 00\nEste curso capacita para inscribirse en la Formación Profesional de Consultores Feng Shui. Curso anual en Barcelona y Madrid\n\n\nhttps://www.fengshuieuropa.com/events/curso-feng-shui-agosto-2025-online-mjb/
URL:https://fengshuimariajosebonet.com/event/las-bases-del-feng-shui-19/
END:VEVENT
BEGIN:VEVENT
DTSTART;TZID=UTC:20250804T093000
DTEND;TZID=UTC:20250804T130000
DTSTAMP:20260419T204141
CREATED:20250627T101142Z
LAST-MODIFIED:20250627T101142Z
UID:6315-1754299800-1754312400@fengshuimariajosebonet.com
SUMMARY:Las bases del feng shui
DESCRIPTION:LAs bases del feng shui\n\nAgosto 2 @ 9:30 am – 13:00 pm\neuro150\n\n\n\nUn curso práctico donde aprenderás a crear espacios que elimines obstáculos y favorezcan tus objetivos\n\n\nAprende desde la base\n\n\nCrear tu espacio eliminando obstáculos\nFavorecer tus objetivos\nA reconocer los elementos desarmónicos\nConvertir tu hogar en una casa de paz equilibrio y prosperidad\nArmoniza tu hogar así armonizarás tu vida y la de tu familia\nlunes y martes 4-5 agosto2025\n\n\nHorario: De 9\,30 a 13h horas\n\n\nInstructor: M José Bonet Canet\n655 88 09 00\nEste curso capacita para inscribirse en la Formación Profesional de Consultores Feng Shui. Curso anual en Barcelona y Madrid\n\n\nhttps://www.fengshuieuropa.com/events/curso-feng-shui-agosto-2025-online-mjb/
URL:https://fengshuimariajosebonet.com/event/las-bases-del-feng-shui-18/
END:VEVENT
BEGIN:VEVENT
DTSTART;TZID=UTC:20250728T213000
DTEND;TZID=UTC:20250728T233000
DTSTAMP:20260419T204141
CREATED:20250627T095930Z
LAST-MODIFIED:20250627T095930Z
UID:6308-1753738200-1753745400@fengshuimariajosebonet.com
SUMMARY:Feng shui habitación por habitación
DESCRIPTION:CURSO PRÁCTICO ONLINE para corregir y potenciar cada habitación de tu casa. \nAprende a crear espacios que eliminen obstáculos y favorezcan tus objetivos \n\nEsencia de cada habitación y su papel en Feng Shui.\nBaño.\nCocina.\nDormitorio.\nSalón.\nEstudio\nLa habitación según el área del bagua.\nSoluciones según la habitación y área del bagua.\nEjercicios\, diagnósticos y prácticas..\n\nAprende de forma fácil y completamente aplicable como elevar cada habitación de tu casa a su máximo nivel. \nUn curso orientado a reconocer los elementos desarmónicos y convertirlos en factores nutrientes de paz equilibrio y prosperidad. Cambia tu casa para cambiar tu vida \n  \nCurso Feng Shui Habitación por habitación – directo ON LINE Lunes 7\, 14\, 21 y 28 julio
URL:https://fengshuimariajosebonet.com/event/feng-shui-habitacion-por-habitacion-8/
END:VEVENT
BEGIN:VEVENT
DTSTART;TZID=UTC:20250723T093000
DTEND;TZID=UTC:20250723T233000
DTSTAMP:20260419T204141
CREATED:20250627T093606Z
LAST-MODIFIED:20250627T093606Z
UID:6291-1753263000-1753313400@fengshuimariajosebonet.com
SUMMARY:las bases del feng shui
DESCRIPTION:Un curso práctico donde aprenderás a crear espacios que elimines obstáculos y favorezcan tus objetivos\n\n\nAprende desde la base\n\n\nCrear tu espacio eliminando obstáculoshttps://www.fengshuieuropa.com/events/curso-feng-shui-julio-2025-online-mjb/\nFavorecer tus objetivos\nA reconocer los elementos desarmónicos\nConvertir tu hogar en una casa de paz equilibrio y prosperidad\nArmoniza tu hogar así armonizarás tu vida y la de tu familia\nMiércoles2-9-16-25  2025\n\n\nHorario: De 21\,30 a 24 horas\n\n\nInstructor: M José Bonet Canet\n655 88 09 00\nEste curso capacita para inscribirse en la Formación Profesional de Consultores Feng Shui. Curso anual en Barcelona y Madrid\nhttps://www.fengshuieuropa.com/events/curso-feng-shui-julio-2025-online-mjb/
URL:https://fengshuimariajosebonet.com/event/las-bases-del-feng-shui-16/
END:VEVENT
BEGIN:VEVENT
DTSTART;TZID=UTC:20250721T213000
DTEND;TZID=UTC:20250721T233000
DTSTAMP:20260419T204141
CREATED:20250627T095814Z
LAST-MODIFIED:20250627T095814Z
UID:6306-1753133400-1753140600@fengshuimariajosebonet.com
SUMMARY:Feng shui habitación por habitación
DESCRIPTION:CURSO PRÁCTICO ONLINE para corregir y potenciar cada habitación de tu casa. \nAprende a crear espacios que eliminen obstáculos y favorezcan tus objetivos \n\nEsencia de cada habitación y su papel en Feng Shui.\nBaño.\nCocina.\nDormitorio.\nSalón.\nEstudio\nLa habitación según el área del bagua.\nSoluciones según la habitación y área del bagua.\nEjercicios\, diagnósticos y prácticas..\n\nAprende de forma fácil y completamente aplicable como elevar cada habitación de tu casa a su máximo nivel. \nUn curso orientado a reconocer los elementos desarmónicos y convertirlos en factores nutrientes de paz equilibrio y prosperidad. Cambia tu casa para cambiar tu vida \n  \nCurso Feng Shui Habitación por habitación – directo ON LINE Lunes 7\, 14\, 21 y 28 julio
URL:https://fengshuimariajosebonet.com/event/feng-shui-habitacion-por-habitacion-7/
END:VEVENT
BEGIN:VEVENT
DTSTART;TZID=UTC:20250719T093000
DTEND;TZID=UTC:20250719T130000
DTSTAMP:20260419T204141
CREATED:20250627T100258Z
LAST-MODIFIED:20250627T100258Z
UID:6311-1752917400-1752930000@fengshuimariajosebonet.com
SUMMARY:Feng shui mental
DESCRIPTION:https://fengshuimariajosebonet.com/wp-content/uploads/2025/06/taller-feng-shui-mental.mp4
URL:https://fengshuimariajosebonet.com/event/feng-shui-mental/
END:VEVENT
BEGIN:VEVENT
DTSTART;TZID=UTC:20250716T093000
DTEND;TZID=UTC:20250716T233000
DTSTAMP:20260419T204141
CREATED:20250627T093727Z
LAST-MODIFIED:20250627T093727Z
UID:6293-1752658200-1752708600@fengshuimariajosebonet.com
SUMMARY:las bases del feng shui
DESCRIPTION:Un curso práctico donde aprenderás a crear espacios que elimines obstáculos y favorezcan tus objetivos\n\n\nAprende desde la base\n\n\nCrear tu espacio eliminando obstáculoshttps://www.fengshuieuropa.com/events/curso-feng-shui-julio-2025-online-mjb/\nFavorecer tus objetivos\nA reconocer los elementos desarmónicos\nConvertir tu hogar en una casa de paz equilibrio y prosperidad\nArmoniza tu hogar así armonizarás tu vida y la de tu familia\nMiércoles2-9-16-25  2025\n\n\nHorario: De 21\,30 a 24 horas\n\n\nInstructor: M José Bonet Canet\n655 88 09 00\nEste curso capacita para inscribirse en la Formación Profesional de Consultores Feng Shui. Curso anual en Barcelona y Madrid\nhttps://www.fengshuieuropa.com/events/curso-feng-shui-julio-2025-online-mjb/
URL:https://fengshuimariajosebonet.com/event/las-bases-del-feng-shui-17/
END:VEVENT
BEGIN:VEVENT
DTSTART;TZID=UTC:20250714T213000
DTEND;TZID=UTC:20250714T233000
DTSTAMP:20260419T204141
CREATED:20250627T095642Z
LAST-MODIFIED:20250627T100020Z
UID:6304-1752528600-1752535800@fengshuimariajosebonet.com
SUMMARY:Feng shui habitación por habitación
DESCRIPTION:CURSO PRÁCTICO ONLINE para corregir y potenciar cada habitación de tu casa. \nAprende a crear espacios que eliminen obstáculos y favorezcan tus objetivos \n\nEsencia de cada habitación y su papel en Feng Shui.\nBaño.\nCocina.\nDormitorio.\nSalón.\nEstudio\nLa habitación según el área del bagua.\nSoluciones según la habitación y área del bagua.\nEjercicios\, diagnósticos y prácticas..\n\nAprende de forma fácil y completamente aplicable como elevar cada habitación de tu casa a su máximo nivel. \nUn curso orientado a reconocer los elementos desarmónicos y convertirlos en factores nutrientes de paz equilibrio y prosperidad. Cambia tu casa para cambiar tu vida \nCurso Feng Shui Habitación por habitación – directo ON LINE Lunes 7\, 14\, 21 y 28 julio
URL:https://fengshuimariajosebonet.com/event/6304/
END:VEVENT
BEGIN:VEVENT
DTSTART;TZID=UTC:20250709T093000
DTEND;TZID=UTC:20250709T233000
DTSTAMP:20260419T204141
CREATED:20250627T093245Z
LAST-MODIFIED:20250627T093245Z
UID:6288-1752053400-1752103800@fengshuimariajosebonet.com
SUMMARY:las bases del feng shui
DESCRIPTION:Curso Feng Shui – ON LINE Miércoles 2\, 9\, 16 y 25 julio 2025
URL:https://fengshuimariajosebonet.com/event/las-bases-del-feng-shui-15/
END:VEVENT
BEGIN:VEVENT
DTSTART;TZID=UTC:20250707T213000
DTEND;TZID=UTC:20250707T233000
DTSTAMP:20260419T204141
CREATED:20250627T095521Z
LAST-MODIFIED:20250627T095521Z
UID:6302-1751923800-1751931000@fengshuimariajosebonet.com
SUMMARY:Feng shui habitación por habitación
DESCRIPTION:CURSO PRÁCTICO ONLINE para corregir y potenciar cada habitación de tu casa. \nAprende a crear espacios que eliminen obstáculos y favorezcan tus objetivos \n\nEsencia de cada habitación y su papel en Feng Shui.\nBaño.\nCocina.\nDormitorio.\nSalón.\nEstudio\nLa habitación según el área del bagua.\nSoluciones según la habitación y área del bagua.\nEjercicios\, diagnósticos y prácticas..\n\nAprende de forma fácil y completamente aplicable como elevar cada habitación de tu casa a su máximo nivel. \nUn curso orientado a reconocer los elementos desarmónicos y convertirlos en factores nutrientes de paz equilibrio y prosperidad. Cambia tu casa para cambiar tu vida \n  \nCurso Feng Shui Habitación por habitación – directo ON LINE Lunes 7\, 14\, 21 y 28 julio
URL:https://fengshuimariajosebonet.com/event/feng-shui-habitacion-por-habitacion-6/
END:VEVENT
BEGIN:VEVENT
DTSTART;TZID=UTC:20250702T093000
DTEND;TZID=UTC:20250702T233000
DTSTAMP:20260419T204141
CREATED:20250627T093123Z
LAST-MODIFIED:20250627T093123Z
UID:6286-1751448600-1751499000@fengshuimariajosebonet.com
SUMMARY:LAs bases del feng shui
DESCRIPTION:Un curso práctico donde aprenderás a crear espacios que elimines obstáculos y favorezcan tus objetivos\n\n\nAprende desde la base\n\n\nCrear tu espacio eliminando obstáculos\nFavorecer tus objetivos\nA reconocer los elementos desarmónicos\nConvertir tu hogar en una casa de paz equilibrio y prosperidad\nArmoniza tu hogar así armonizarás tu vida y la de tu familia\nMiércoles2-9-16-23 2025\n\n\nHorario: De 21\,30 a 24 horas\n\n\nInstructor: M José Bonet Canet\n655 88 09 00\nEste curso capacita para inscribirse en la Formación Profesional de Consultores Feng Shui. Curso anual en Barcelona y Madrid\n\nhttps://www.fengshuieuropa.com/events/curso-feng-shui-julio-2025-online-mjb/
URL:https://fengshuimariajosebonet.com/event/las-bases-del-feng-shui-14/
END:VEVENT
BEGIN:VEVENT
DTSTART;TZID=UTC:20250630T213000
DTEND;TZID=UTC:20250630T233000
DTSTAMP:20260419T204141
CREATED:20250526T144228Z
LAST-MODIFIED:20250526T144228Z
UID:6270-1751319000-1751326200@fengshuimariajosebonet.com
SUMMARY:Feng Shui habitación por habitación
DESCRIPTION:CURSO PRÁCTICO ONLINE para corregir y potenciar cada habitación de tu casa. \nAprende a crear espacios que eliminen obstáculos y favorezcan tus objetivos \n\nEsencia de cada habitación y su papel en Feng Shui.\nBaño.\nCocina.\nDormitorio.\nSalón.\nEstudio\nLa habitación según el área del bagua.\nSoluciones según la habitación y área del bagua.\nEjercicios\, diagnósticos y prácticas..\n\nAprende de forma fácil y completamente aplicable como elevar cada habitación de tu casa a su máximo nivel. \nUn curso orientado a reconocer los elementos desarmónicos y convertirlos en factores nutrientes de paz equilibrio y prosperidad. Cambia tu casa para cambiar tu vida
URL:https://fengshuimariajosebonet.com/event/feng-shui-habitacion-por-habitacion-5/
END:VEVENT
BEGIN:VEVENT
DTSTART;TZID=UTC:20250625T213000
DTEND;TZID=UTC:20250625T233000
DTSTAMP:20260419T204141
CREATED:20250516T162528Z
LAST-MODIFIED:20250516T162613Z
UID:6255-1750887000-1750894200@fengshuimariajosebonet.com
SUMMARY:las bases del feng shui
DESCRIPTION:https://www.fengshuieuropa.com/events/curso-feng-shui-junio-2025-online-mjb-2/\n\nUn curso práctico donde aprenderás a crear espacios que elimines obstáculos y favorezcan tus objetivos\n\n\nAprende desde la base\n\n\nCrear tu espacio eliminando obstáculos\nFavorecer tus objetivos\nA reconocer los elementos desarmónicos\nConvertir tu hogar en una casa de paz equilibrio y prosperidad\nArmoniza tu hogar así armonizarás tu vida y la de tu familia\nMiércoles 4-11-18-25 2025\n\n\nHorario: De 21\,30 a 24 horas\n\n\nInstructor: M José Bonet Canet\n655 88 09 00\nEste curso capacita para inscribirse en la Formación Profesional de Consultores Feng Shui. Curso anual en Barcelona y Madrid
URL:https://fengshuimariajosebonet.com/event/las-bases-del-feng-shui-13/
END:VEVENT
BEGIN:VEVENT
DTSTART;TZID=UTC:20250623T213000
DTEND;TZID=UTC:20250623T233000
DTSTAMP:20260419T204141
CREATED:20250526T143851Z
LAST-MODIFIED:20250526T143851Z
UID:6266-1750714200-1750721400@fengshuimariajosebonet.com
SUMMARY:Feng Shui habitación por habitación
DESCRIPTION:CURSO PRÁCTICO ONLINE para corregir y potenciar cada habitación de tu casa. \nAprende a crear espacios que eliminen obstáculos y favorezcan tus objetivos \n\nEsencia de cada habitación y su papel en Feng Shui.\nBaño.\nCocina.\nDormitorio.\nSalón.\nEstudio\nLa habitación según el área del bagua.\nSoluciones según la habitación y área del bagua.\nEjercicios\, diagnósticos y prácticas..\n\nAprende de forma fácil y completamente aplicable como elevar cada habitación de tu casa a su máximo nivel. \nUn curso orientado a reconocer los elementos desarmónicos y convertirlos en factores nutrientes de paz equilibrio y prosperidad. Cambia tu casa para cambiar tu vida
URL:https://fengshuimariajosebonet.com/event/feng-shui-habitacion-por-habitacion-3/
END:VEVENT
BEGIN:VEVENT
DTSTART;TZID=UTC:20250618T213000
DTEND;TZID=UTC:20250618T233000
DTSTAMP:20260419T204141
CREATED:20250516T162357Z
LAST-MODIFIED:20250516T162718Z
UID:6253-1750282200-1750289400@fengshuimariajosebonet.com
SUMMARY:Las bases del feng shui
DESCRIPTION:https://www.fengshuieuropa.com/events/curso-feng-shui-junio-2025-online-mjb-2/\n\nUn curso práctico donde aprenderás a crear espacios que elimines obstáculos y favorezcan tus objetivos\n\n\nAprende desde la base\n\n\nCrear tu espacio eliminando obstáculos\nFavorecer tus objetivos\nA reconocer los elementos desarmónicos\nConvertir tu hogar en una casa de paz equilibrio y prosperidad\nArmoniza tu hogar así armonizarás tu vida y la de tu familia\nMiércoles 4-11-18-25 2025\n\n\nHorario: De 21\,30 a 24 horas\n\n\nInstructor: M José Bonet Canet\n655 88 09 00\nEste curso capacita para inscribirse en la Formación Profesional de Consultores Feng Shui. Curso anual en Barcelona y Madrid
URL:https://fengshuimariajosebonet.com/event/las-bases-del-feng-shui-12/
END:VEVENT
BEGIN:VEVENT
DTSTART;TZID=UTC:20250616T093000
DTEND;TZID=UTC:20250616T233000
DTSTAMP:20260419T204141
CREATED:20250526T143201Z
LAST-MODIFIED:20250526T143402Z
UID:6262-1750066200-1750116600@fengshuimariajosebonet.com
SUMMARY:Feng Shui habitación por habitación
DESCRIPTION:CURSO PRÁCTICO ONLINE para corregir y potenciar cada habitación de tu casa. \nAprende a crear espacios que eliminen obstáculos y favorezcan tus objetivos \n\nEsencia de cada habitación y su papel en Feng Shui.\nBaño.\nCocina.\nDormitorio.\nSalón.\nEstudio\nLa habitación según el área del bagua.\nSoluciones según la habitación y área del bagua.\nEjercicios\, diagnósticos y prácticas..\n\nAprende de forma fácil y completamente aplicable como elevar cada habitación de tu casa a su máximo nivel. \nUn curso orientado a reconocer los elementos desarmónicos y convertirlos en factores nutrientes de paz equilibrio y prosperidad. Cambia tu casa para cambiar tu vida \n 
URL:https://fengshuimariajosebonet.com/event/feng-shui-habitacion-por-habitacion-2/
END:VEVENT
BEGIN:VEVENT
DTSTART;TZID=UTC:20250614T093000
DTEND;TZID=UTC:20250614T130000
DTSTAMP:20260419T204141
CREATED:20250526T145752Z
LAST-MODIFIED:20250526T150513Z
UID:6272-1749893400-1749906000@fengshuimariajosebonet.com
SUMMARY:Haz feng shuien ti y  así ordenars tu prosperidad
DESCRIPTION:Taller onlin\nSabado 14 de junio 9:30 a 13:00\nEmpieza a saber cancelar tus pensamientos negativos y\ntus creencia limitantes.\nAl ordenar tus pensamientos y tus creencias\, estas trabajando tu prosperidad en ti y hacia ti.\nContacto 655 88 09 00\nMJose Bonet \n 
URL:https://fengshuimariajosebonet.com/event/6272/
END:VEVENT
BEGIN:VEVENT
DTSTART;TZID=UTC:20250611T213000
DTEND;TZID=UTC:20250611T233000
DTSTAMP:20260419T204141
CREATED:20250516T162310Z
LAST-MODIFIED:20250516T162806Z
UID:6251-1749677400-1749684600@fengshuimariajosebonet.com
SUMMARY:Las bases del feng shui
DESCRIPTION:https://www.fengshuieuropa.com/events/curso-feng-shui-junio-2025-online-mjb-2/\n\nUn curso práctico donde aprenderás a crear espacios que elimines obstáculos y favorezcan tus objetivos\n\n\nAprende desde la base\n\n\nCrear tu espacio eliminando obstáculos\nFavorecer tus objetivos\nA reconocer los elementos desarmónicos\nConvertir tu hogar en una casa de paz equilibrio y prosperidad\nArmoniza tu hogar así armonizarás tu vida y la de tu familia\nMiércoles 4-11-18-25 2025\n\n\nHorario: De 21\,30 a 24 horas\n\n\nInstructor: M José Bonet Canet\n655 88 09 00\nEste curso capacita para inscribirse en la Formación Profesional de Consultores Feng Shui. Curso anual en Barcelona y Madrid
URL:https://fengshuimariajosebonet.com/event/las-bases-del-feng-shui-11/
END:VEVENT
BEGIN:VEVENT
DTSTART;TZID=UTC:20250609T213000
DTEND;TZID=UTC:20250609T233000
DTSTAMP:20260419T204141
CREATED:20250526T143021Z
LAST-MODIFIED:20250526T143021Z
UID:6259-1749504600-1749511800@fengshuimariajosebonet.com
SUMMARY:Feng Shui Habitación por habitación
DESCRIPTION:CURSO PRÁCTICO ONLINE para corregir y potenciar cada habitación de tu casa. \nAprende a crear espacios que eliminen obstáculos y favorezcan tus objetivos \n\nEsencia de cada habitación y su papel en Feng Shui.\nBaño.\nCocina.\nDormitorio.\nSalón.\nEstudio\nLa habitación según el área del bagua.\nSoluciones según la habitación y área del bagua.\nEjercicios\, diagnósticos y prácticas..\n\nAprende de forma fácil y completamente aplicable como elevar cada habitación de tu casa a su máximo nivel. \nUn curso orientado a reconocer los elementos desarmónicos y convertirlos en factores nutrientes de paz equilibrio y prosperidad. Cambia tu casa para cambiar tu vida
URL:https://fengshuimariajosebonet.com/event/feng-shui-habitacion-por-habitacion/
END:VEVENT
BEGIN:VEVENT
DTSTART;TZID=UTC:20250604T213000
DTEND;TZID=UTC:20250604T233000
DTSTAMP:20260419T204141
CREATED:20250516T162200Z
LAST-MODIFIED:20250516T162947Z
UID:6249-1749072600-1749079800@fengshuimariajosebonet.com
SUMMARY:Las bases del feng shui
DESCRIPTION:https://www.fengshuieuropa.com/events/curso-feng-shui-junio-2025-online-mjb-2/\n\nUn curso práctico donde aprenderás a crear espacios que elimines obstáculos y favorezcan tus objetivos\n\n\nAprende desde la base\n\n\nCrear tu espacio eliminando obstáculos\nFavorecer tus objetivos\nA reconocer los elementos desarmónicos\nConvertir tu hogar en una casa de paz equilibrio y prosperidad\nArmoniza tu hogar así armonizarás tu vida y la de tu familia\nMiércoles 4-11-18-25 2025\n\n\nHorario: De 21\,30 a 24 horas\n\n\nInstructor: M José Bonet Canet\n655 88 09 00\nEste curso capacita para inscribirse en la Formación Profesional de Consultores Feng Shui. Curso anual en Barcelona y Madrid
URL:https://fengshuimariajosebonet.com/event/las-bases-del-feng-shui-10/
END:VEVENT
BEGIN:VEVENT
DTSTART;TZID=UTC:20250528T213000
DTEND;TZID=UTC:20250528T233000
DTSTAMP:20260419T204141
CREATED:20250421T095258Z
LAST-MODIFIED:20250421T095258Z
UID:6243-1748467800-1748475000@fengshuimariajosebonet.com
SUMMARY:las bases del feng shui
DESCRIPTION:Curso Feng Shui – ON LINE Miércoles 7\, 14\, 21 y 28 mayo 2025 \n \nCURSO FENG SHUI ON LINE Un curso práctico donde aprenderás a crear espacios que elimines obstáculos y favorezcan tus objetivos \nAprende desde la base \n\nCrear tu espacio  eliminando obstáculos\nFavorecer tus objetivos\nA reconocer los elementos desarmónicos\nConvertir tu hogar en una casa de paz equilibrio y prosperidad\nArmoniza tu hogar así armonizarás tu vida y la de tu familia\n\nMiércoles 7-14-21-28 de mayo 2025 \nHorario: De 21\,30 a 24 horas \nInstructor: M José Bonet Canet
URL:https://fengshuimariajosebonet.com/event/las-bases-del-feng-shui-9/
END:VEVENT
BEGIN:VEVENT
DTSTART;TZID=UTC:20250526T080000
DTEND;TZID=UTC:20250526T170000
DTSTAMP:20260419T204141
CREATED:20250526T144003Z
LAST-MODIFIED:20250526T144003Z
UID:6268-1748246400-1748278800@fengshuimariajosebonet.com
SUMMARY:Feng Shui habitación por habitación
DESCRIPTION:CURSO PRÁCTICO ONLINE para corregir y potenciar cada habitación de tu casa. \nAprende a crear espacios que eliminen obstáculos y favorezcan tus objetivos \n\nEsencia de cada habitación y su papel en Feng Shui.\nBaño.\nCocina.\nDormitorio.\nSalón.\nEstudio\nLa habitación según el área del bagua.\nSoluciones según la habitación y área del bagua.\nEjercicios\, diagnósticos y prácticas..\n\nAprende de forma fácil y completamente aplicable como elevar cada habitación de tu casa a su máximo nivel. \nUn curso orientado a reconocer los elementos desarmónicos y convertirlos en factores nutrientes de paz equilibrio y prosperidad. Cambia tu casa para cambiar tu vida
URL:https://fengshuimariajosebonet.com/event/feng-shui-habitacion-por-habitacion-4/
END:VEVENT
BEGIN:VEVENT
DTSTART;TZID=UTC:20250521T213000
DTEND;TZID=UTC:20250521T233000
DTSTAMP:20260419T204141
CREATED:20250421T095152Z
LAST-MODIFIED:20250421T095152Z
UID:6241-1747863000-1747870200@fengshuimariajosebonet.com
SUMMARY:las bases del feng shui
DESCRIPTION:Curso Feng Shui – ON LINE Miércoles 7\, 14\, 21 y 28 mayo 2025 \n \nCURSO FENG SHUI ON LINE Un curso práctico donde aprenderás a crear espacios que elimines obstáculos y favorezcan tus objetivos \nAprende desde la base \n\nCrear tu espacio  eliminando obstáculos\nFavorecer tus objetivos\nA reconocer los elementos desarmónicos\nConvertir tu hogar en una casa de paz equilibrio y prosperidad\nArmoniza tu hogar así armonizarás tu vida y la de tu familia\n\nMiércoles 7-14-21-28 de mayo 2025 \nHorario: De 21\,30 a 24 horas \nInstructor: M José Bonet Canet \n 
URL:https://fengshuimariajosebonet.com/event/las-bases-del-feng-shui-8/
END:VEVENT
BEGIN:VEVENT
DTSTART;TZID=UTC:20250514T213000
DTEND;TZID=UTC:20250514T233000
DTSTAMP:20260419T204141
CREATED:20250421T095031Z
LAST-MODIFIED:20250421T095031Z
UID:6239-1747258200-1747265400@fengshuimariajosebonet.com
SUMMARY:las bases del feng shui
DESCRIPTION:https://www.fengshuieuropa.com/events/curso-feng-shui-mayo-2025-online-mjb/\n\nCURSO FENG SHUI ON LINE Un curso práctico donde aprenderás a crear espacios que elimines obstáculos y favorezcan tus objetivos\n\n\nAprende desde la base\n\n\nCrear tu espacio eliminando obstáculos\nFavorecer tus objetivos\nA reconocer los elementos desarmónicos\nConvertir tu hogar en una casa de paz equilibrio y prosperidad\nArmoniza tu hogar así armonizarás tu vida y la de tu familia\nMiércoles 7-14-21-28 de mayo 2025\n\n\nHorario: De 21\,30 a 24 horas\n\n\nInstructor: M José Bonet Canet\n655 88 09 00\nEste curso capacita para inscribirse en la Formación Profesional de Consultores Feng Shui. Curso anual en Barcelona y Madrid
URL:https://fengshuimariajosebonet.com/event/las-bases-del-feng-shui-7/
END:VEVENT
BEGIN:VEVENT
DTSTART;TZID=UTC:20250507T213000
DTEND;TZID=UTC:20250507T233000
DTSTAMP:20260419T204141
CREATED:20250421T094829Z
LAST-MODIFIED:20250421T094829Z
UID:6236-1746653400-1746660600@fengshuimariajosebonet.com
SUMMARY:Las bases del feng shui
DESCRIPTION:CURSO FENG SHUI Ohttps://www.fengshuieuropa.com/events/curso-feng-shui-mayo-2025-online-mjb/N LINE\n\nUn curso práctico donde aprenderás a crear espacios que elimines obstáculos y favorezcan tus objetivos\n\n\nAprende desde la base\n\n\nCrear tu espacio eliminando obstáculos\nFavorecer tus objetivos\nA reconocer los elementos desarmónicos\nConvertir tu hogar en una casa de paz equilibrio y prosperidad\nArmoniza tu hogar así armonizarás tu vida y la de tu familia\nMiércoles 7-14-21-28 de mayo 2025\n\n\nHorario: De 21\,30 a 24 horas\n\n\nInstructor: M José Bonet Canet\n655 88 09 00\nEste curso capacita para inscribirse en la Formación Profesional de Consultores Feng Shui. Curso anual en Barcelona y Madrid
URL:https://fengshuimariajosebonet.com/event/las-bases-del-feng-shui-6/
END:VEVENT
BEGIN:VEVENT
DTSTART;TZID=UTC:20250405T100000
DTEND;TZID=UTC:20250405T133000
DTSTAMP:20260419T204141
CREATED:20250323T113642Z
LAST-MODIFIED:20250323T113642Z
UID:6231-1743847200-1743859800@fengshuimariajosebonet.com
SUMMARY:Feng Shui aplicado a la empresa
DESCRIPTION:FENG SHUI APLICADO A LA EMPRESA Curso Online\n¡Tu empresa está en tus manos! 🌿💫 \nSábado 5 abril de 16 a 20 h\nM José Bonet\n@Feng Shui María José Bonet \n📩 Escríbete\, para más información \nℹ️ +34 65588 09 00 \nℹ️https://www.fengshuieuropa.com/events/curso-feng-shui-empresa-abril-2025-online-mjb/ \nhttps://fengshuimariajosebonet.com/wp-content/uploads/2025/03/empresa5abril.mp4
URL:https://fengshuimariajosebonet.com/event/feng-shui-aplicado-a-la-empresa/
ATTACH;FMTTYPE=image/jpeg:https://fengshuimariajosebonet.com/wp-content/uploads/2025/03/WhatsApp-Image-2025-03-09-at-17.50.21.jpeg
END:VEVENT
BEGIN:VEVENT
DTSTART;TZID=UTC:20250226T213000
DTEND;TZID=UTC:20250226T233000
DTSTAMP:20260419T204141
CREATED:20250129T115525Z
LAST-MODIFIED:20250129T115525Z
UID:6224-1740605400-1740612600@fengshuimariajosebonet.com
SUMMARY:Las bases del feng shui
DESCRIPTION:
URL:https://fengshuimariajosebonet.com/event/las-bases-del-feng-shui-5/
END:VEVENT
BEGIN:VEVENT
DTSTART;TZID=UTC:20250219T213000
DTEND;TZID=UTC:20250219T233000
DTSTAMP:20260419T204141
CREATED:20250129T115446Z
LAST-MODIFIED:20250129T115446Z
UID:6222-1740000600-1740007800@fengshuimariajosebonet.com
SUMMARY:Las bases del feng shui
DESCRIPTION:
URL:https://fengshuimariajosebonet.com/event/las-bases-del-feng-shui-4/
END:VEVENT
BEGIN:VEVENT
DTSTART;TZID=UTC:20250212T213000
DTEND;TZID=UTC:20250212T233000
DTSTAMP:20260419T204141
CREATED:20250129T115357Z
LAST-MODIFIED:20250129T115357Z
UID:6220-1739395800-1739403000@fengshuimariajosebonet.com
SUMMARY:Las bases del feng shui
DESCRIPTION:
URL:https://fengshuimariajosebonet.com/event/las-bases-del-feng-shui-3/
END:VEVENT
END:VCALENDAR