BEGIN:VCALENDAR
VERSION:2.0
PRODID:-//Feng shui Maria Jose Bonet - ECPv6.3.7//NONSGML v1.0//EN
CALSCALE:GREGORIAN
METHOD:PUBLISH
X-ORIGINAL-URL:https://fengshuimariajosebonet.com
X-WR-CALDESC:Eventos para Feng shui Maria Jose Bonet
REFRESH-INTERVAL;VALUE=DURATION:PT1H
X-Robots-Tag:noindex
X-PUBLISHED-TTL:PT1H
BEGIN:VTIMEZONE
TZID:UTC
BEGIN:STANDARD
TZOFFSETFROM:+0000
TZOFFSETTO:+0000
TZNAME:UTC
DTSTART:20170101T000000
END:STANDARD
END:VTIMEZONE
BEGIN:VEVENT
DTSTART;VALUE=DATE:20180303
DTEND;VALUE=DATE:20180304
DTSTAMP:20260420T184447
CREATED:20180219T171745Z
LAST-MODIFIED:20180219T171745Z
UID:3203-1520035200-1520121599@fengshuimariajosebonet.com
SUMMARY:1nivel de Feng Shui Iniciación
DESCRIPTION:
URL:https://fengshuimariajosebonet.com/event/1nivel-feng-shui-iniciacion/
LOCATION:valencia
END:VEVENT
BEGIN:VEVENT
DTSTART;VALUE=DATE:20180303
DTEND;VALUE=DATE:20180304
DTSTAMP:20260420T184447
CREATED:20180207T172841Z
LAST-MODIFIED:20180207T172841Z
UID:3196-1520035200-1520121599@fengshuimariajosebonet.com
SUMMARY:!nivel de Feng Shui
DESCRIPTION:
URL:https://fengshuimariajosebonet.com/event/nivel-feng-shui/
LOCATION:valencia
END:VEVENT
BEGIN:VEVENT
DTSTART;TZID=UTC:20180223T190000
DTEND;TZID=UTC:20180223T213000
DTSTAMP:20260420T184447
CREATED:20180219T171522Z
LAST-MODIFIED:20180219T171522Z
UID:3201-1519412400-1519421400@fengshuimariajosebonet.com
SUMMARY:Los 5 escapes de dinero en la casa
DESCRIPTION:
URL:https://fengshuimariajosebonet.com/event/los-5-escapes-dinero-la-casa/
LOCATION:valencia
END:VEVENT
BEGIN:VEVENT
DTSTART;VALUE=DATE:20180204
DTEND;VALUE=DATE:20180205
DTSTAMP:20260420T184447
CREATED:20180111T165651Z
LAST-MODIFIED:20180111T165651Z
UID:3184-1517702400-1517788799@fengshuimariajosebonet.com
SUMMARY:Iniciacón 1ºnivel de Feng Shui
DESCRIPTION:
URL:https://fengshuimariajosebonet.com/event/iniciacon-1onivel-de-feng-shui/
LOCATION:valencia
END:VEVENT
BEGIN:VEVENT
DTSTART;VALUE=DATE:20180121
DTEND;VALUE=DATE:20180122
DTSTAMP:20260420T184447
CREATED:20180108T170200Z
LAST-MODIFIED:20180108T170200Z
UID:3182-1516492800-1516579199@fengshuimariajosebonet.com
SUMMARY:Taller de feng shui para empresa y emprendedores
DESCRIPTION:
URL:https://fengshuimariajosebonet.com/event/taller-de-feng-shui-para-empresa-y-emprendedores/
LOCATION:valencia
END:VEVENT
BEGIN:VEVENT
DTSTART;TZID=UTC:20180119T190000
DTEND;TZID=UTC:20180119T213000
DTSTAMP:20260420T184447
CREATED:20180108T165651Z
LAST-MODIFIED:20180108T165651Z
UID:3175-1516388400-1516397400@fengshuimariajosebonet.com
SUMMARY:Los 5 escapes que hay en la casa
DESCRIPTION:
URL:https://fengshuimariajosebonet.com/event/los-5-escapes-que-hay-en-la-casa/
LOCATION:valencia
END:VEVENT
BEGIN:VEVENT
DTSTART;TZID=UTC:20171220T190000
DTEND;TZID=UTC:20171220T210000
DTSTAMP:20260420T184447
CREATED:20171214T161916Z
LAST-MODIFIED:20171214T161916Z
UID:3171-1513796400-1513803600@fengshuimariajosebonet.com
SUMMARY:La Navidad y el Feng Shui Alginet Valencia
DESCRIPTION:
URL:https://fengshuimariajosebonet.com/event/la-navidad-y-el-feng-shui-alginet-valencia/
LOCATION:valencia
END:VEVENT
BEGIN:VEVENT
DTSTART;TZID=UTC:20171213T190000
DTEND;TZID=UTC:20171213T210000
DTSTAMP:20260420T184447
CREATED:20171121T164849Z
LAST-MODIFIED:20171121T164849Z
UID:3166-1513191600-1513198800@fengshuimariajosebonet.com
SUMMARY:Taller de feng shui y la navidad Almansa Albacete
DESCRIPTION:
URL:https://fengshuimariajosebonet.com/event/taller-de-feng-shui-y-la-navidad-almansa-albacete/
LOCATION:Almansa\, Almansa\, Albacete
END:VEVENT
BEGIN:VEVENT
DTSTART;TZID=UTC:20171202T170000
DTEND;TZID=UTC:20171202T200000
DTSTAMP:20260420T184447
CREATED:20171121T164541Z
LAST-MODIFIED:20171121T164632Z
UID:3163-1512234000-1512244800@fengshuimariajosebonet.com
SUMMARY:Taller de feng shui y la navidad en L\,Acudia Valencia
DESCRIPTION:
URL:https://fengshuimariajosebonet.com/event/taller-de-feng-shui-y-la-navidad/
LOCATION:valencia
END:VEVENT
BEGIN:VEVENT
DTSTART;TZID=UTC:20171125T080000
DTEND;TZID=UTC:20171125T190000
DTSTAMP:20260420T184447
CREATED:20171121T164411Z
LAST-MODIFIED:20171121T164411Z
UID:3161-1511596800-1511636400@fengshuimariajosebonet.com
SUMMARY:conferencia solidaria en Yecla A¨porta orden en tu casa¨
DESCRIPTION:
URL:https://fengshuimariajosebonet.com/event/conferencia-solidaria-en-yecla-a%c2%a8porta-orden-en-tu-casa%c2%a8/
LOCATION:valencia
END:VEVENT
BEGIN:VEVENT
DTSTART;VALUE=DATE:20171119
DTEND;VALUE=DATE:20171120
DTSTAMP:20260420T184447
CREATED:20171101T102203Z
LAST-MODIFIED:20171101T102203Z
UID:3151-1511049600-1511135999@fengshuimariajosebonet.com
SUMMARY:Feng Shui espacio función
DESCRIPTION: 
URL:https://fengshuimariajosebonet.com/event/feng-shui-espacio-funcion/
LOCATION:Almansa\, Almansa\, Albacete
END:VEVENT
BEGIN:VEVENT
DTSTART;TZID=UTC:20171111T160000
DTEND;TZID=UTC:20171111T200000
DTSTAMP:20260420T184447
CREATED:20171101T101354Z
LAST-MODIFIED:20171101T101354Z
UID:3148-1510416000-1510430400@fengshuimariajosebonet.com
SUMMARY:Despacho y mesa escritorio Almansa
DESCRIPTION:
URL:https://fengshuimariajosebonet.com/event/despacho-y-mesa-escritorio-almansa/
LOCATION:Almansa\, Almansa\, Albacete
END:VEVENT
BEGIN:VEVENT
DTSTART;TZID=UTC:20171104T093000
DTEND;TZID=UTC:20171104T190000
DTSTAMP:20260420T184447
CREATED:20171011T133610Z
LAST-MODIFIED:20171011T133619Z
UID:3145-1509787800-1509822000@fengshuimariajosebonet.com
SUMMARY:introduccion al feng shui nivel 1
DESCRIPTION:
URL:https://fengshuimariajosebonet.com/event/introduccion-al-feng-shui-nivel-1/
LOCATION:Alginet\, Sant Josep 60\, Valencia\, Valencia\, 46230\, España
END:VEVENT
BEGIN:VEVENT
DTSTART;VALUE=DATE:20171028
DTEND;VALUE=DATE:20171029
DTSTAMP:20260420T184447
CREATED:20171001T165025Z
LAST-MODIFIED:20171002T073033Z
UID:3128-1509148800-1509235199@fengshuimariajosebonet.com
SUMMARY:Feng shui 1 nivel iniciación
DESCRIPTION:Feng shui 1 nivel iniciación
URL:https://fengshuimariajosebonet.com/event/feng-shui-1-nivel-iniciacion/
LOCATION:Almansa\, Almansa\, Albacete
ATTACH;FMTTYPE=image/jpeg:https://fengshuimariajosebonet.com/wp-content/uploads/2017/01/Cartel_Introducción_Almansa_-scaled.jpg
END:VEVENT
BEGIN:VEVENT
DTSTART;TZID=UTC:20171025T180000
DTEND;TZID=UTC:20171025T210000
DTSTAMP:20260420T184447
CREATED:20171001T170116Z
LAST-MODIFIED:20171001T170116Z
UID:3135-1508954400-1508965200@fengshuimariajosebonet.com
SUMMARY:Taller de los colores para el hogar
DESCRIPTION:
URL:https://fengshuimariajosebonet.com/event/taller-los-colores-hogar-2/
LOCATION:Almansa\, Almansa\, Albacete
END:VEVENT
BEGIN:VEVENT
DTSTART;TZID=UTC:20171017T080000
DTEND;TZID=UTC:20171017T170000
DTSTAMP:20260420T184447
CREATED:20171001T171755Z
LAST-MODIFIED:20171001T171755Z
UID:3140-1508227200-1508259600@fengshuimariajosebonet.com
SUMMARY:Taller las 5 fugas de la casa
DESCRIPTION:
URL:https://fengshuimariajosebonet.com/event/taller-las-5-fugas-la-casa/
LOCATION:valencia
END:VEVENT
BEGIN:VEVENT
DTSTART;TZID=UTC:20171004T190000
DTEND;TZID=UTC:20171004T210000
DTSTAMP:20260420T184447
CREATED:20170919T100408Z
LAST-MODIFIED:20170919T100408Z
UID:3124-1507143600-1507150800@fengshuimariajosebonet.com
SUMMARY:Taller para saber lo que el desorden esconde
DESCRIPTION:
URL:https://fengshuimariajosebonet.com/event/taller-saber-lo-desorden-esconde/
LOCATION:Almansa\, Almansa\, Albacete
END:VEVENT
BEGIN:VEVENT
DTSTART;TZID=UTC:20171001T080000
DTEND;TZID=UTC:20171001T170000
DTSTAMP:20260420T184447
CREATED:20171001T171126Z
LAST-MODIFIED:20171001T171606Z
UID:3138-1506844800-1506877200@fengshuimariajosebonet.com
SUMMARY:Las 5 fugas de la casa
DESCRIPTION:
URL:https://fengshuimariajosebonet.com/event/las-5-fugas-la-casa/
LOCATION:valencia
END:VEVENT
BEGIN:VEVENT
DTSTART;TZID=UTC:20170909T160000
DTEND;TZID=UTC:20170909T200000
DTSTAMP:20260420T184447
CREATED:20170902T163223Z
LAST-MODIFIED:20170902T163223Z
UID:3117-1504972800-1504987200@fengshuimariajosebonet.com
SUMMARY:Con 20% obtén un 80% en tu despacho o escritorio
DESCRIPTION:El objetivo de este taller…\nMostrar las herramientas unidas con ejercicios prácticos para que su aprendizaje sea garantía de resultados que se mantienen en el tiempo.\nUn espacio bien distribuido y funcional aportara el estado emocional necesario que proporcionara la agilidad de la actividad para la que fue creado. \n«ESPACIOS PREPARADOS PARA SU FUNCIÓN = BENEFICIOS» \nSábado\, 9 de septiembre entre 16:00 y 20:00 \nAvda. José Hernández de la Asunción\, nº40 – Planta baja\, 02640 Almansa \nReserva tu plaza 647 561 623.
URL:https://fengshuimariajosebonet.com/event/20-obten-80-despacho-escritorio/
LOCATION:Almansa\, Almansa\, Albacete
END:VEVENT
BEGIN:VEVENT
DTSTART;TZID=UTC:20170715T093000
DTEND;TZID=UTC:20170715T190000
DTSTAMP:20260420T184447
CREATED:20170506T161153Z
LAST-MODIFIED:20170506T161153Z
UID:3099-1500111000-1500145200@fengshuimariajosebonet.com
SUMMARY:Iniciacion al feng shui Almansa
DESCRIPTION:Sabado 15 de Julio 2017\nCiudad:\nAlmansa-Albacete \nInstructor:\nMaria José Bonet \nDescripción del curso: \nHorario: de 10:00 a 19:00(con una parada para comer)\nLugar:Avda. José Hernández de la Asunción\, nº40 – Planta baja\, 02640 Alman \nPrecio: 120€ con reserva anticipada (plazas limitadas) \nRequisitos: No se precisan conocimientos previos.\nTraer un plano de la vivienda. \nMaterial: Se entrega un dossier de teórico-práctico y mapa Bagua. \nCurso avalado por la Escuela Europea de Feng Shui con certificado de asistencia. \nInformación:\nMati 647 561 623 Mjosé 655 88 09 00\nwww.fengshuiesmeralda.com www.sidney.com
URL:https://fengshuimariajosebonet.com/event/iniciacion-al-feng-shui-almansa-2/
LOCATION:Almansa\, Almansa\, Albacete
END:VEVENT
BEGIN:VEVENT
DTSTART;TZID=UTC:20170628T190000
DTEND;TZID=UTC:20170628T210000
DTSTAMP:20260420T184447
CREATED:20170624T121518Z
LAST-MODIFIED:20170624T121518Z
UID:3115-1498676400-1498683600@fengshuimariajosebonet.com
SUMMARY:Herramientas para el orden
DESCRIPTION:¿Conocéis a alguien que le cueste mucho ordenar los armarios o un simple cajón? A lo mejor tiene uno de los siete miedos que nos impiden ordenar.\nHablarle de este taller y vente con el \, descubriras cual es el miedo que no te deja ordenar.\nReservar vuestra plaza 655 880 900- 647 561 623 \n  \n  \n  \n 
URL:https://fengshuimariajosebonet.com/event/herramientas-para-el-orden/
LOCATION:Almansa\, Federico Garcia Lorca n25\, Albacete\, Albacete\, España
END:VEVENT
BEGIN:VEVENT
DTSTART;TZID=UTC:20170603T100000
DTEND;TZID=UTC:20170603T193000
DTSTAMP:20260420T184447
CREATED:20170506T161419Z
LAST-MODIFIED:20170506T161419Z
UID:3101-1496484000-1496518200@fengshuimariajosebonet.com
SUMMARY:2 nivel de feng shui Almansa
DESCRIPTION:Feng Shui II – Habitación por habitación\nFechas:\nSábado 3 de junio 2017 \nCiudad:\nAlmansa – Albacete \nInstructor:\nAngel Garcia \nDescripción del curso:\nHorario: De 10 a 14 y de 15:30 a 19\,30 h.\nLugar: Sidneyp \nAvda. José Hernandez de la Asunción\, 40 – Planta baja \nALMANSA – Albacete \nInformación: \nSolicite información detallada al teléfono: 655 880 900 o Whats App 606 993 232 \nPrecio: 135 euros (inscripción anticipada)\nPlazas limitadas. \nSe entregará dossier y certificado asistencia\nhttp://www.fengshuieuropa.com/cursos.html \nInformación e inscripciones\nSidneyp \nMati 647 56 16 23 Mjose 655 88 09 00\nwww.sidneydpnl.com \nwww.fengshuiesmeralda.com
URL:https://fengshuimariajosebonet.com/event/2-nivel-feng-shui-almansa-2/
LOCATION:valencia
END:VEVENT
BEGIN:VEVENT
DTSTART;TZID=UTC:20170528T093000
DTEND;TZID=UTC:20170528T190000
DTSTAMP:20260420T184447
CREATED:20170506T161021Z
LAST-MODIFIED:20170506T161500Z
UID:3097-1495963800-1495998000@fengshuimariajosebonet.com
SUMMARY:Iniciacion al feng shui Almansa
DESCRIPTION:Iniciacion del Feng Shui \nDomingo 28 de mayo 2017\nCiudad:\nAlmansa-Albacete \nInstructor:\nMaria José Bonet \nDescripción del curso: \nHorario: de 10:00 a 19:00(con una parada para comer)\nLugar:Avda. José Hernández de la Asunción\, nº40 – Planta baja\, 02640 Alman \nPrecio: 120€ con reserva anticipada (plazas limitadas) \nRequisitos: No se precisan conocimientos previos.\nTraer un plano de la vivienda. \nMaterial: Se entrega un dossier de teórico-práctico y mapa Bagua. \nCurso avalado por la Escuela Europea de Feng Shui con certificado de asistencia. \nInformación:\nMati 647 561 623 Mjosé 655 88 09 00\nwww.fengshuiesmeralda.com www.sidney.com
URL:https://fengshuimariajosebonet.com/event/iniciacion-al-feng-shui-almansa/
LOCATION:Almansa\, Almansa\, Albacete
END:VEVENT
BEGIN:VEVENT
DTSTART;TZID=UTC:20170527T100000
DTEND;TZID=UTC:20170527T130000
DTSTAMP:20260420T184447
CREATED:20170512T071644Z
LAST-MODIFIED:20170512T071849Z
UID:3105-1495879200-1495890000@fengshuimariajosebonet.com
SUMMARY:Jornada para Papás y Mamás  Re-evolución Familiar  Almansa
DESCRIPTION: 
URL:https://fengshuimariajosebonet.com/event/jornada-papas-mamas-re-evolucion-familiar-almansa/
LOCATION:valencia
END:VEVENT
BEGIN:VEVENT
DTSTART;TZID=UTC:20170519T190000
DTEND;TZID=UTC:20170519T200000
DTSTAMP:20260420T184447
CREATED:20170515T112935Z
LAST-MODIFIED:20170515T112935Z
UID:3107-1495220400-1495224000@fengshuimariajosebonet.com
SUMMARY:¿Como hacer que ordenen la habitación?
DESCRIPTION:Conferencia ¿Como hacer que ordenen la habitación? \nComo hacer que cada miembro de casa se ordene y se limpie su habitación\,!muy facil!!!.\nSiempre hay unas pautas a seguir por ti y por todos los miembros.\nAlginet Valencia\nC/Sant Josep 60 1º \nHorario 19:00  a 20:00\nReserva Maria Jose 655880900 \n \n 
URL:https://fengshuimariajosebonet.com/event/ordenen-la-habitacion/
LOCATION:valencia
END:VEVENT
BEGIN:VEVENT
DTSTART;VALUE=DATE:20170513
DTEND;VALUE=DATE:20170514
DTSTAMP:20260420T184447
CREATED:20170506T160856Z
LAST-MODIFIED:20170506T161906Z
UID:3095-1494633600-1494719999@fengshuimariajosebonet.com
SUMMARY:Iniciacion  al feng shui
DESCRIPTION:Iniciacion del Feng Shui \nSabado 13 de mayo 2017\nCiudad:\nAlginet – Valencia \nInstructor:\nMaria José Bonet \nDescripción del curso: \nHorario: de 10:00 a 19:00(con una parada para comer)\nc/Sant Josep 601º \nPrecio: 120€ con reserva anticipada (plazas limitadas) \nRequisitos: No se precisan conocimientos previos.\nTraer un plano de la vivienda. \nMaterial: Se entrega un dossier de teórico-práctico y mapa Bagua. \nCurso avalado por la Escuela Europea de Feng Shui con certificado de asistencia. \nInformación:\nMjosé 655 88 09 00\nwww.fengshuiesmeralda.com www.sidney.com \n 
URL:https://fengshuimariajosebonet.com/event/iniciacion-al-feng-shui-3/
LOCATION:Alginet\, sant josep 60\, Alginet\, 46230\, España
END:VEVENT
BEGIN:VEVENT
DTSTART;TZID=UTC:20170512T190000
DTEND;TZID=UTC:20170512T200000
DTSTAMP:20260420T184447
CREATED:20170506T155644Z
LAST-MODIFIED:20170506T161753Z
UID:3090-1494615600-1494619200@fengshuimariajosebonet.com
SUMMARY:Conferencia los miedos que impiden ordenar
DESCRIPTION:Conferencia gratuita ¨Los miedos que impiden ordenar tu espacio¨ \n \nImparte Maria Jose Bonet terapeuta del habitat \nLugar: Alginet – Valencia C/Sant Josep 60 1º \nHorario 19:00-20:00 \nReservar plaza 655880900
URL:https://fengshuimariajosebonet.com/event/conferencia-los-miedos-impiden-ordenar/
LOCATION:valencia
END:VEVENT
BEGIN:VEVENT
DTSTART;VALUE=DATE:20170408
DTEND;VALUE=DATE:20170409
DTSTAMP:20260420T184447
CREATED:20170130T174802Z
LAST-MODIFIED:20170227T163807Z
UID:3049-1491609600-1491695999@fengshuimariajosebonet.com
SUMMARY:2 nivel de Feng Shui Almansa
DESCRIPTION:NIVEL II\nBases del Feng Shui\nCurso conducido por Ángel García\nUn curso práctico donde aprenderás más profundamente los elementos del Feng Shui como camino para la armonía del entorno y como fundamento de la armonía interna\, trabajando la casa habitación por habitación. \nPrograma del curso:\n\nFeng Shui adaptado a las personas.\nArmonización y estética: el Tao.\nYin y Yang y los 5 elementos aplicados.\nCiclos de refuerzo y matización.\nBagua aplicado: casos complejos y bagua interno.\nLas nueve áreas como conjunto y una a una.\nEsencia de cada habitación.\nLa habitación según el área del bagua.\nLos diez caminos: remedios según la habitación y área del bagua.\nEjercicios\, diagnósticos y prácticas.\n\nDuración: 9 horas.\nRequisitos: Es necesario haber realizado en Nivel I.\nMaterial: Se entrega un dossier de teórico – práctico. \nDos poderosos cursos orientados a reconocer los elementos desarmónicos de tu casa y convertirlos en factores nutrientes de paz\, equilibrio y prosperidad.
URL:https://fengshuimariajosebonet.com/event/2-nivel-feng-shui-almansa/
LOCATION:Almansa\, Almansa\, Albacete
END:VEVENT
BEGIN:VEVENT
DTSTART;VALUE=DATE:20170325
DTEND;VALUE=DATE:20170326
DTSTAMP:20260420T184447
CREATED:20170307T082123Z
LAST-MODIFIED:20170307T082123Z
UID:3079-1490400000-1490486399@fengshuimariajosebonet.com
SUMMARY:Introducción al Feng Shui
DESCRIPTION:Curso Introducción al Feng shui \n25 de marzo Sabado \nHorario 9:30 a 19:00 con para a comer \nEn sidneyPNL  c/ Federico Garcia Lorca n25 Almansa Albacete \nPrecio 120€ \nReservar plaza 655 880 900   647 561 623 \nAvalado por la Escuela Europa de Feng Shui
URL:https://fengshuimariajosebonet.com/event/introduccion-al-feng-shui-2/
LOCATION:Almansa\, Federico Garcia Lorca n25\, Albacete\, Albacete\, España
END:VEVENT
BEGIN:VEVENT
DTSTART;TZID=UTC:20170321T100000
DTEND;TZID=UTC:20170321T130000
DTSTAMP:20260420T184447
CREATED:20170309T090528Z
LAST-MODIFIED:20170309T090528Z
UID:3088-1490090400-1490101200@fengshuimariajosebonet.com
SUMMARY:feng shui negocios
DESCRIPTION:Curso de feng shui negocio\nFechas\nlunes 20-27 de marzo y 22 de abril o\nMartes 21-28 de marzo y 23 de abril \nCiudad\nAlmansa- Albacete \nInstructor\nMaria Jose Bonet \nDescripción del curso\nHorario Horario: de 10:00 a 13:00\nLugar: C/ Rambla de la Mancha nº 22 \nPrecio: 70€ asociadas al gremio de peluquerías de Almansa\n85€ no asociadas \nRequisitos: No se precisan conocimientos previos. \nMaterial: Se entrega un dossier de teórico – práctico y mapa Bagua. \nCurso avalado por la Escuela Europea de Feng Shui con certificado de asistencia. \nInformación:\nAdela 647 64 55 33 Mjose 655 88 09 00
URL:https://fengshuimariajosebonet.com/event/feng-shui-negocios-2/
LOCATION:valencia
END:VEVENT
END:VCALENDAR