BEGIN:VCALENDAR
VERSION:2.0
PRODID:-//Feng shui Maria Jose Bonet - ECPv6.3.7//NONSGML v1.0//EN
CALSCALE:GREGORIAN
METHOD:PUBLISH
X-WR-CALNAME:Feng shui Maria Jose Bonet
X-ORIGINAL-URL:https://fengshuimariajosebonet.com
X-WR-CALDESC:Eventos para Feng shui Maria Jose Bonet
REFRESH-INTERVAL;VALUE=DURATION:PT1H
X-Robots-Tag:noindex
X-PUBLISHED-TTL:PT1H
BEGIN:VTIMEZONE
TZID:UTC
BEGIN:STANDARD
TZOFFSETFROM:+0000
TZOFFSETTO:+0000
TZNAME:UTC
DTSTART:20170101T000000
END:STANDARD
END:VTIMEZONE
BEGIN:VEVENT
DTSTART;TZID=UTC:20180714T100000
DTEND;TZID=UTC:20180714T140000
DTSTAMP:20260420T154130
CREATED:20180522T095931Z
LAST-MODIFIED:20180522T095931Z
UID:3300-1531562400-1531576800@fengshuimariajosebonet.com
SUMMARY:4 horas de iniciacion al feng shui
DESCRIPTION:
URL:https://fengshuimariajosebonet.com/event/4-horas-de-iniciacion-al-feng-shui/
LOCATION:Valencia
END:VEVENT
BEGIN:VEVENT
DTSTART;TZID=UTC:20180711T150000
DTEND;TZID=UTC:20180711T170000
DTSTAMP:20260420T154130
CREATED:20180703T112602Z
LAST-MODIFIED:20180703T112602Z
UID:3318-1531321200-1531328400@fengshuimariajosebonet.com
SUMMARY:Feng Shui empresa
DESCRIPTION:
URL:https://fengshuimariajosebonet.com/event/feng-shui-empresa/
LOCATION:Almansa\, Federico Garcia Lorca n25\, Albacete\, Albacete\, España
END:VEVENT
BEGIN:VEVENT
DTSTART;TZID=UTC:20180704T100000
DTEND;TZID=UTC:20180704T190000
DTSTAMP:20260420T154130
CREATED:20180703T112345Z
LAST-MODIFIED:20180703T112345Z
UID:3316-1530698400-1530730800@fengshuimariajosebonet.com
SUMMARY:Consultas de Reiki-Geocrom y de Feng Shui
DESCRIPTION:
URL:https://fengshuimariajosebonet.com/event/consultas-de-reiki-geocrom-y-de-feng-shui/
LOCATION:Almansa\, Federico Garcia Lorca n25\, Albacete\, Albacete\, España
END:VEVENT
BEGIN:VEVENT
DTSTART;TZID=UTC:20180629T190000
DTEND;TZID=UTC:20180629T210000
DTSTAMP:20260420T154130
CREATED:20180522T095618Z
LAST-MODIFIED:20180522T095618Z
UID:3298-1530298800-1530306000@fengshuimariajosebonet.com
SUMMARY:Saber lo que el desorden esconde
DESCRIPTION:
URL:https://fengshuimariajosebonet.com/event/saber-lo-que-el-desorden-esconde/
LOCATION:Valencia
END:VEVENT
BEGIN:VEVENT
DTSTART;VALUE=DATE:20180623
DTEND;VALUE=DATE:20180624
DTSTAMP:20260420T154130
CREATED:20180420T101035Z
LAST-MODIFIED:20180420T101035Z
UID:3283-1529712000-1529798399@fengshuimariajosebonet.com
SUMMARY:1º nivel de Iniciacion de Feng Shui  Paterna Valencia
DESCRIPTION:
URL:https://fengshuimariajosebonet.com/event/1o-nivel-de-iniciacion-de-feng-shui-paterna-valencia/
LOCATION:Valencia
END:VEVENT
BEGIN:VEVENT
DTSTART;TZID=UTC:20180614T093000
DTEND;TZID=UTC:20180614T120000
DTSTAMP:20260420T154130
CREATED:20180612T101844Z
LAST-MODIFIED:20180612T101844Z
UID:3305-1528968600-1528977600@fengshuimariajosebonet.com
SUMMARY:I Jornadas de orientación laboral
DESCRIPTION:
URL:https://fengshuimariajosebonet.com/event/i-jornadas-de-orientacion-laboral/
LOCATION:Valencia
END:VEVENT
BEGIN:VEVENT
DTSTART;TZID=UTC:20180609T170000
DTEND;TZID=UTC:20180609T200000
DTSTAMP:20260420T154130
CREATED:20180604T155853Z
LAST-MODIFIED:20180604T155853Z
UID:3303-1528563600-1528574400@fengshuimariajosebonet.com
SUMMARY:Feng Shui habitacion de niños de 0-18 años
DESCRIPTION:
URL:https://fengshuimariajosebonet.com/event/feng-shui-habitacion-de-ninos-de-0-18-anos/
LOCATION:Valencia
END:VEVENT
BEGIN:VEVENT
DTSTART;TZID=UTC:20180601T190000
DTEND;TZID=UTC:20180601T210000
DTSTAMP:20260420T154130
CREATED:20180518T080614Z
LAST-MODIFIED:20180518T080614Z
UID:3293-1527879600-1527886800@fengshuimariajosebonet.com
SUMMARY:Taller de habitacion de niños de 0- 18 años
DESCRIPTION:
URL:https://fengshuimariajosebonet.com/event/taller-de-habitacion-de-ninos-de-0-18-anos/
LOCATION:Valencia
END:VEVENT
BEGIN:VEVENT
DTSTART;VALUE=DATE:20180526
DTEND;VALUE=DATE:20180527
DTSTAMP:20260420T154130
CREATED:20180420T100816Z
LAST-MODIFIED:20180420T100816Z
UID:3281-1527292800-1527379199@fengshuimariajosebonet.com
SUMMARY:1 nivel de Iniciación de Feng shui Almansa Albacete
DESCRIPTION:
URL:https://fengshuimariajosebonet.com/event/1-nivel-de-iniciacion-de-feng-shui-almansa-albacete/
LOCATION:Valencia
END:VEVENT
BEGIN:VEVENT
DTSTART;VALUE=DATE:20180520
DTEND;VALUE=DATE:20180521
DTSTAMP:20260420T154130
CREATED:20180518T080337Z
LAST-MODIFIED:20180518T080337Z
UID:3290-1526774400-1526860799@fengshuimariajosebonet.com
SUMMARY:Biosfira
DESCRIPTION:
URL:https://fengshuimariajosebonet.com/event/biosfira-3/
LOCATION:Valencia
END:VEVENT
BEGIN:VEVENT
DTSTART;VALUE=DATE:20180519
DTEND;VALUE=DATE:20180520
DTSTAMP:20260420T154130
CREATED:20180518T080238Z
LAST-MODIFIED:20180518T080312Z
UID:3288-1526688000-1526774399@fengshuimariajosebonet.com
SUMMARY:Biosfira
DESCRIPTION:
URL:https://fengshuimariajosebonet.com/event/biosfira-2/
LOCATION:Valencia
END:VEVENT
BEGIN:VEVENT
DTSTART;VALUE=DATE:20180519
DTEND;VALUE=DATE:20180520
DTSTAMP:20260420T154130
CREATED:20180518T080141Z
LAST-MODIFIED:20180518T080141Z
UID:3286-1526688000-1526774399@fengshuimariajosebonet.com
SUMMARY:Biosfira
DESCRIPTION:
URL:https://fengshuimariajosebonet.com/event/biosfira/
LOCATION:Valencia
END:VEVENT
BEGIN:VEVENT
DTSTART;TZID=UTC:20180518T190000
DTEND;TZID=UTC:20180518T233000
DTSTAMP:20260420T154130
CREATED:20180518T080906Z
LAST-MODIFIED:20180518T080906Z
UID:3295-1526670000-1526686200@fengshuimariajosebonet.com
SUMMARY:Biosfira
DESCRIPTION:
URL:https://fengshuimariajosebonet.com/event/biosfira-4/
LOCATION:Valencia
END:VEVENT
BEGIN:VEVENT
DTSTART;TZID=UTC:20180420T190000
DTEND;TZID=UTC:20180420T213000
DTSTAMP:20260420T154130
CREATED:20180320T151906Z
LAST-MODIFIED:20180320T151906Z
UID:3261-1524250800-1524259800@fengshuimariajosebonet.com
SUMMARY:Taller sobre los 5 escapes de dinero\,Paterna
DESCRIPTION:
URL:https://fengshuimariajosebonet.com/event/taller-los-5-escapes-dineropaterna/
LOCATION:Valencia
END:VEVENT
BEGIN:VEVENT
DTSTART;VALUE=DATE:20180414
DTEND;VALUE=DATE:20180415
DTSTAMP:20260420T154130
CREATED:20180320T152623Z
LAST-MODIFIED:20180320T152623Z
UID:3264-1523664000-1523750399@fengshuimariajosebonet.com
SUMMARY:1ºNivel de Feng Shui Iniciación Alginet Valencia
DESCRIPTION:
URL:https://fengshuimariajosebonet.com/event/1onivel-feng-shui-iniciacion-alginet-valencia/
LOCATION:Valencia
END:VEVENT
BEGIN:VEVENT
DTSTART;VALUE=DATE:20180407
DTEND;VALUE=DATE:20180408
DTSTAMP:20260420T154130
CREATED:20180320T150915Z
LAST-MODIFIED:20180320T150915Z
UID:3259-1523059200-1523145599@fengshuimariajosebonet.com
SUMMARY:1ºNivel de Feng Shui Almansa-Albacete
DESCRIPTION:
URL:https://fengshuimariajosebonet.com/event/1onivel-feng-shui-almansa-albacete/
LOCATION:sidneypnl\, Federico Garcia Lorca 25\, Almansa\, Albacete\, 02640\, España
END:VEVENT
BEGIN:VEVENT
DTSTART;TZID=UTC:20180324T170000
DTEND;TZID=UTC:20180324T190000
DTSTAMP:20260420T154130
CREATED:20180320T150534Z
LAST-MODIFIED:20180320T150534Z
UID:3257-1521910800-1521918000@fengshuimariajosebonet.com
SUMMARY:Taller herramientas para el orden
DESCRIPTION:
URL:https://fengshuimariajosebonet.com/event/taller-herramientas-orden-2/
LOCATION:Valencia
END:VEVENT
BEGIN:VEVENT
DTSTART;TZID=UTC:20180323T190000
DTEND;TZID=UTC:20180323T210000
DTSTAMP:20260420T154130
CREATED:20180301T114700Z
LAST-MODIFIED:20180301T114739Z
UID:3242-1521831600-1521838800@fengshuimariajosebonet.com
SUMMARY:Conferencia de Feng Shui Paterna-Valencia
DESCRIPTION:
URL:https://fengshuimariajosebonet.com/event/conferencia-feng-shui/
LOCATION:Valencia
END:VEVENT
BEGIN:VEVENT
DTSTART;TZID=UTC:20180321T143000
DTEND;TZID=UTC:20180322T170000
DTSTAMP:20260420T154130
CREATED:20180320T150316Z
LAST-MODIFIED:20180320T150316Z
UID:3255-1521642600-1521738000@fengshuimariajosebonet.com
SUMMARY:Que la Empresa Te Aporte Beneficios
DESCRIPTION:
URL:https://fengshuimariajosebonet.com/event/la-empresa-te-aporte-beneficios/
LOCATION:Valencia
END:VEVENT
BEGIN:VEVENT
DTSTART;TZID=UTC:20180316T190000
DTEND;TZID=UTC:20180316T210000
DTSTAMP:20260420T154130
CREATED:20180301T114024Z
LAST-MODIFIED:20180301T114024Z
UID:3240-1521226800-1521234000@fengshuimariajosebonet.com
SUMMARY:Taller de herramientas para el orden
DESCRIPTION:
URL:https://fengshuimariajosebonet.com/event/taller-herramientas-orden/
LOCATION:Valencia
END:VEVENT
BEGIN:VEVENT
DTSTART;VALUE=DATE:20180303
DTEND;VALUE=DATE:20180304
DTSTAMP:20260420T154130
CREATED:20180219T171745Z
LAST-MODIFIED:20180219T171745Z
UID:3203-1520035200-1520121599@fengshuimariajosebonet.com
SUMMARY:1nivel de Feng Shui Iniciación
DESCRIPTION:
URL:https://fengshuimariajosebonet.com/event/1nivel-feng-shui-iniciacion/
LOCATION:Valencia
END:VEVENT
BEGIN:VEVENT
DTSTART;VALUE=DATE:20180303
DTEND;VALUE=DATE:20180304
DTSTAMP:20260420T154130
CREATED:20180207T172841Z
LAST-MODIFIED:20180207T172841Z
UID:3196-1520035200-1520121599@fengshuimariajosebonet.com
SUMMARY:!nivel de Feng Shui
DESCRIPTION:
URL:https://fengshuimariajosebonet.com/event/nivel-feng-shui/
LOCATION:Valencia
END:VEVENT
BEGIN:VEVENT
DTSTART;TZID=UTC:20180223T190000
DTEND;TZID=UTC:20180223T213000
DTSTAMP:20260420T154130
CREATED:20180219T171522Z
LAST-MODIFIED:20180219T171522Z
UID:3201-1519412400-1519421400@fengshuimariajosebonet.com
SUMMARY:Los 5 escapes de dinero en la casa
DESCRIPTION:
URL:https://fengshuimariajosebonet.com/event/los-5-escapes-dinero-la-casa/
LOCATION:Valencia
END:VEVENT
BEGIN:VEVENT
DTSTART;VALUE=DATE:20180204
DTEND;VALUE=DATE:20180205
DTSTAMP:20260420T154130
CREATED:20180111T165651Z
LAST-MODIFIED:20180111T165651Z
UID:3184-1517702400-1517788799@fengshuimariajosebonet.com
SUMMARY:Iniciacón 1ºnivel de Feng Shui
DESCRIPTION:
URL:https://fengshuimariajosebonet.com/event/iniciacon-1onivel-de-feng-shui/
LOCATION:Valencia
END:VEVENT
BEGIN:VEVENT
DTSTART;VALUE=DATE:20180121
DTEND;VALUE=DATE:20180122
DTSTAMP:20260420T154130
CREATED:20180108T170200Z
LAST-MODIFIED:20180108T170200Z
UID:3182-1516492800-1516579199@fengshuimariajosebonet.com
SUMMARY:Taller de feng shui para empresa y emprendedores
DESCRIPTION:
URL:https://fengshuimariajosebonet.com/event/taller-de-feng-shui-para-empresa-y-emprendedores/
LOCATION:Valencia
END:VEVENT
BEGIN:VEVENT
DTSTART;TZID=UTC:20180119T190000
DTEND;TZID=UTC:20180119T213000
DTSTAMP:20260420T154130
CREATED:20180108T165651Z
LAST-MODIFIED:20180108T165651Z
UID:3175-1516388400-1516397400@fengshuimariajosebonet.com
SUMMARY:Los 5 escapes que hay en la casa
DESCRIPTION:
URL:https://fengshuimariajosebonet.com/event/los-5-escapes-que-hay-en-la-casa/
LOCATION:Valencia
END:VEVENT
BEGIN:VEVENT
DTSTART;TZID=UTC:20171220T190000
DTEND;TZID=UTC:20171220T210000
DTSTAMP:20260420T154130
CREATED:20171214T161916Z
LAST-MODIFIED:20171214T161916Z
UID:3171-1513796400-1513803600@fengshuimariajosebonet.com
SUMMARY:La Navidad y el Feng Shui Alginet Valencia
DESCRIPTION:
URL:https://fengshuimariajosebonet.com/event/la-navidad-y-el-feng-shui-alginet-valencia/
LOCATION:Valencia
END:VEVENT
BEGIN:VEVENT
DTSTART;TZID=UTC:20171213T190000
DTEND;TZID=UTC:20171213T210000
DTSTAMP:20260420T154130
CREATED:20171121T164849Z
LAST-MODIFIED:20171121T164849Z
UID:3166-1513191600-1513198800@fengshuimariajosebonet.com
SUMMARY:Taller de feng shui y la navidad Almansa Albacete
DESCRIPTION:
URL:https://fengshuimariajosebonet.com/event/taller-de-feng-shui-y-la-navidad-almansa-albacete/
LOCATION:Almansa\, Almansa\, Albacete
END:VEVENT
BEGIN:VEVENT
DTSTART;TZID=UTC:20171202T170000
DTEND;TZID=UTC:20171202T200000
DTSTAMP:20260420T154130
CREATED:20171121T164541Z
LAST-MODIFIED:20171121T164632Z
UID:3163-1512234000-1512244800@fengshuimariajosebonet.com
SUMMARY:Taller de feng shui y la navidad en L\,Acudia Valencia
DESCRIPTION:
URL:https://fengshuimariajosebonet.com/event/taller-de-feng-shui-y-la-navidad/
LOCATION:Valencia
END:VEVENT
BEGIN:VEVENT
DTSTART;TZID=UTC:20171125T080000
DTEND;TZID=UTC:20171125T190000
DTSTAMP:20260420T154130
CREATED:20171121T164411Z
LAST-MODIFIED:20171121T164411Z
UID:3161-1511596800-1511636400@fengshuimariajosebonet.com
SUMMARY:conferencia solidaria en Yecla A¨porta orden en tu casa¨
DESCRIPTION:
URL:https://fengshuimariajosebonet.com/event/conferencia-solidaria-en-yecla-a%c2%a8porta-orden-en-tu-casa%c2%a8/
LOCATION:Valencia
END:VEVENT
END:VCALENDAR