BEGIN:VCALENDAR
VERSION:2.0
PRODID:-//Feng shui Maria Jose Bonet - ECPv6.3.7//NONSGML v1.0//EN
CALSCALE:GREGORIAN
METHOD:PUBLISH
X-WR-CALNAME:Feng shui Maria Jose Bonet
X-ORIGINAL-URL:https://fengshuimariajosebonet.com
X-WR-CALDESC:Eventos para Feng shui Maria Jose Bonet
REFRESH-INTERVAL;VALUE=DURATION:PT1H
X-Robots-Tag:noindex
X-PUBLISHED-TTL:PT1H
BEGIN:VTIMEZONE
TZID:UTC
BEGIN:STANDARD
TZOFFSETFROM:+0000
TZOFFSETTO:+0000
TZNAME:UTC
DTSTART:20180101T000000
END:STANDARD
END:VTIMEZONE
BEGIN:VEVENT
DTSTART;TZID=UTC:20190201T173000
DTEND;TZID=UTC:20190201T200000
DTSTAMP:20260420T105717
CREATED:20190129T174940Z
LAST-MODIFIED:20190129T174940Z
UID:3431-1549042200-1549051200@fengshuimariajosebonet.com
SUMMARY:Taller de feng shui habitación de niños 0 -18 años
DESCRIPTION:
URL:https://fengshuimariajosebonet.com/event/taller-de-feng-shui-habitacion-de-ninos-0-18-anos/
LOCATION:Albacete
END:VEVENT
BEGIN:VEVENT
DTSTART;TZID=UTC:20190130T150000
DTEND;TZID=UTC:20190130T190000
DTSTAMP:20260420T105717
CREATED:20190107T164154Z
LAST-MODIFIED:20190107T164302Z
UID:3421-1548860400-1548874800@fengshuimariajosebonet.com
SUMMARY:Miercoles en Almansa\, mejora tu vitalidad física y del espacio
DESCRIPTION:
URL:https://fengshuimariajosebonet.com/event/miercoles-en-almansa-mejora-tu-vitalidad-fisica-y-del-espacio/
LOCATION:Almansa\, Almansa\, Albacete
END:VEVENT
BEGIN:VEVENT
DTSTART;TZID=UTC:20190123T150000
DTEND;TZID=UTC:20190123T190000
DTSTAMP:20260420T105717
CREATED:20190107T164445Z
LAST-MODIFIED:20190107T164445Z
UID:3423-1548255600-1548270000@fengshuimariajosebonet.com
SUMMARY:Miercoles en Almansa\, mejora tu vitalidad física y del espacio
DESCRIPTION:
URL:https://fengshuimariajosebonet.com/event/miercoles-en-almansa-mejora-tu-vitalidad-fisica-y-del-espacio-2/
LOCATION:Albacete
END:VEVENT
BEGIN:VEVENT
DTSTART;TZID=UTC:20190120T100000
DTEND;TZID=UTC:20190120T190000
DTSTAMP:20260420T105717
CREATED:20181210T115728Z
LAST-MODIFIED:20181210T115728Z
UID:3406-1547978400-1548010800@fengshuimariajosebonet.com
SUMMARY:Introduccion al Feng Shui nivel 1º
DESCRIPTION:
URL:https://fengshuimariajosebonet.com/event/introduccion-al-feng-shui-nivel-1o/
LOCATION:Alginet\, sant josep 60\, Alginet\, 46230\, España
END:VEVENT
BEGIN:VEVENT
DTSTART;TZID=UTC:20190116T110000
DTEND;TZID=UTC:20190116T190000
DTSTAMP:20260420T105717
CREATED:20190107T164606Z
LAST-MODIFIED:20190107T164606Z
UID:3425-1547636400-1547665200@fengshuimariajosebonet.com
SUMMARY:Miercoles en Almansa\, mejora tu vitalidad física y del espacio
DESCRIPTION:
URL:https://fengshuimariajosebonet.com/event/miercoles-en-almansa-mejora-tu-vitalidad-fisica-y-del-espacio-3/
LOCATION:Albacete
END:VEVENT
BEGIN:VEVENT
DTSTART;TZID=UTC:20190109T110000
DTEND;TZID=UTC:20190109T190000
DTSTAMP:20260420T105717
CREATED:20190107T164740Z
LAST-MODIFIED:20190107T164740Z
UID:3427-1547031600-1547060400@fengshuimariajosebonet.com
SUMMARY:Miercoles en Almansa\, mejora tu vitalidad física y del espacio
DESCRIPTION:
URL:https://fengshuimariajosebonet.com/event/miercoles-en-almansa-mejora-tu-vitalidad-fisica-y-del-espacio-4/
LOCATION:Albacete
END:VEVENT
BEGIN:VEVENT
DTSTART;TZID=UTC:20181212T190000
DTEND;TZID=UTC:20181212T210000
DTSTAMP:20260420T105717
CREATED:20181211T170448Z
LAST-MODIFIED:20181211T170448Z
UID:3410-1544641200-1544648400@fengshuimariajosebonet.com
SUMMARY:Taller de Feng Shui y la Navidad
DESCRIPTION:
URL:https://fengshuimariajosebonet.com/event/taller-de-feng-shui-y-la-navidad-2/
LOCATION:Almansa\, Federico Garcia Lorca n25\, Albacete\, Albacete\, España
END:VEVENT
BEGIN:VEVENT
DTSTART;TZID=UTC:20181201T170000
DTEND;TZID=UTC:20181201T200000
DTSTAMP:20260420T105717
CREATED:20181111T184939Z
LAST-MODIFIED:20181111T184939Z
UID:3395-1543683600-1543694400@fengshuimariajosebonet.com
SUMMARY:Taller Feng Shui y la navidad
DESCRIPTION:
URL:https://fengshuimariajosebonet.com/event/taller-feng-shui-y-la-navidad/
LOCATION:Alginet\, sant josep 60\, Alginet\, 46230\, España
END:VEVENT
BEGIN:VEVENT
DTSTART;VALUE=DATE:20181118
DTEND;VALUE=DATE:20181119
DTSTAMP:20260420T105717
CREATED:20181111T183841Z
LAST-MODIFIED:20181111T183841Z
UID:3391-1542499200-1542585599@fengshuimariajosebonet.com
SUMMARY:Introducción al Feng Shui
DESCRIPTION:
URL:https://fengshuimariajosebonet.com/event/introduccion-al-feng-shui-3/
LOCATION:Almansa\, Almansa\, Albacete
END:VEVENT
BEGIN:VEVENT
DTSTART;TZID=UTC:20181117T100000
DTEND;TZID=UTC:20181117T130000
DTSTAMP:20260420T105717
CREATED:20181111T184100Z
LAST-MODIFIED:20181111T184100Z
UID:3393-1542448800-1542459600@fengshuimariajosebonet.com
SUMMARY:Orden y desorden en la casa
DESCRIPTION:
URL:https://fengshuimariajosebonet.com/event/orden-y-desorden-en-la-casa/
LOCATION:Albacete
END:VEVENT
BEGIN:VEVENT
DTSTART;VALUE=DATE:20181110
DTEND;VALUE=DATE:20181111
DTSTAMP:20260420T105717
CREATED:20181004T134823Z
LAST-MODIFIED:20181004T134823Z
UID:3375-1541808000-1541894399@fengshuimariajosebonet.com
SUMMARY:Espacio funcion 2º nivel
DESCRIPTION:
URL:https://fengshuimariajosebonet.com/event/espacio-funcion-2o-nivel/
LOCATION:Almansa\, Almansa\, Albacete
END:VEVENT
BEGIN:VEVENT
DTSTART;VALUE=DATE:20181103
DTEND;VALUE=DATE:20181104
DTSTAMP:20260420T105717
CREATED:20181004T134122Z
LAST-MODIFIED:20181004T134122Z
UID:3371-1541203200-1541289599@fengshuimariajosebonet.com
SUMMARY:Curso Feng Shui 1 nivel
DESCRIPTION:
URL:https://fengshuimariajosebonet.com/event/curso-feng-shui-1-nivel/
LOCATION:Alginet\, Sant Josep 60\, Valencia\, Valencia\, 46230\, España
END:VEVENT
BEGIN:VEVENT
DTSTART;TZID=UTC:20181027T170000
DTEND;TZID=UTC:20181027T200000
DTSTAMP:20260420T105717
CREATED:20181004T133952Z
LAST-MODIFIED:20181004T133952Z
UID:3369-1540659600-1540670400@fengshuimariajosebonet.com
SUMMARY:Habitaciones de 0 a 18 años\, como motivarles
DESCRIPTION:
URL:https://fengshuimariajosebonet.com/event/habitaciones-de-0-a-18-anos-como-motivarles/
LOCATION:Alginet\, sant josep 60\, Alginet\, 46230\, España
END:VEVENT
BEGIN:VEVENT
DTSTART;VALUE=DATE:20181021
DTEND;VALUE=DATE:20181022
DTSTAMP:20260420T105717
CREATED:20181004T134526Z
LAST-MODIFIED:20181004T134526Z
UID:3373-1540080000-1540166399@fengshuimariajosebonet.com
SUMMARY:Curso Feng Shui 1 nivel
DESCRIPTION:
URL:https://fengshuimariajosebonet.com/event/curso-feng-shui-1-nivel-2/
LOCATION:Albacete
END:VEVENT
BEGIN:VEVENT
DTSTART;TZID=UTC:20180926T150000
DTEND;TZID=UTC:20180926T170000
DTSTAMP:20260420T105717
CREATED:20180825T093114Z
LAST-MODIFIED:20180825T093114Z
UID:3354-1537974000-1537981200@fengshuimariajosebonet.com
SUMMARY:Feng Shui para Empresarios
DESCRIPTION:
URL:https://fengshuimariajosebonet.com/event/feng-shui-para-empresarios-3/
LOCATION:Almansa\, Almansa\, Albacete
END:VEVENT
BEGIN:VEVENT
DTSTART;TZID=UTC:20180919T150000
DTEND;TZID=UTC:20180919T170000
DTSTAMP:20260420T105717
CREATED:20180825T093014Z
LAST-MODIFIED:20180825T093014Z
UID:3352-1537369200-1537376400@fengshuimariajosebonet.com
SUMMARY:Feng Shui para Empresarios
DESCRIPTION:
URL:https://fengshuimariajosebonet.com/event/feng-shui-para-empresarios-2/
LOCATION:Almansa\, Almansa\, Albacete
END:VEVENT
BEGIN:VEVENT
DTSTART;TZID=UTC:20180915T170000
DTEND;TZID=UTC:20180915T200000
DTSTAMP:20260420T105717
CREATED:20180828T101004Z
LAST-MODIFIED:20180828T101004Z
UID:3359-1537030800-1537041600@fengshuimariajosebonet.com
SUMMARY:Taller para padres
DESCRIPTION:
URL:https://fengshuimariajosebonet.com/event/taller-para-padres/
LOCATION:Alginet\, Sant Josep 60\, Valencia\, Valencia\, 46230\, España
END:VEVENT
BEGIN:VEVENT
DTSTART;TZID=UTC:20180912T150000
DTEND;TZID=UTC:20180912T170000
DTSTAMP:20260420T105717
CREATED:20180825T092827Z
LAST-MODIFIED:20180825T092827Z
UID:3350-1536764400-1536771600@fengshuimariajosebonet.com
SUMMARY:Feng Shui para Empresarios
DESCRIPTION:
URL:https://fengshuimariajosebonet.com/event/feng-shui-para-empresarios/
LOCATION:Albacete
END:VEVENT
BEGIN:VEVENT
DTSTART;VALUE=DATE:20180908
DTEND;VALUE=DATE:20180909
DTSTAMP:20260420T105717
CREATED:20180828T101110Z
LAST-MODIFIED:20180828T101110Z
UID:3361-1536364800-1536451199@fengshuimariajosebonet.com
SUMMARY:Introduccion al feng shui 1º
DESCRIPTION:
URL:https://fengshuimariajosebonet.com/event/introduccion-al-feng-shui-1o/
LOCATION:Alginet\, sant josep 60\, Alginet\, 46230\, España
END:VEVENT
BEGIN:VEVENT
DTSTART;TZID=UTC:20180811T100000
DTEND;TZID=UTC:20180811T183000
DTSTAMP:20260420T105717
CREATED:20180726T100416Z
LAST-MODIFIED:20180726T100416Z
UID:3345-1533981600-1534012200@fengshuimariajosebonet.com
SUMMARY:Reestructura tu informacion del feng shui con 20 horas
DESCRIPTION:
URL:https://fengshuimariajosebonet.com/event/reestructura-tu-informacion-del-feng-shui-con-20-horas-5/
LOCATION:Albacete
END:VEVENT
BEGIN:VEVENT
DTSTART;VALUE=DATE:20180810
DTEND;VALUE=DATE:20180811
DTSTAMP:20260420T105717
CREATED:20180726T100314Z
LAST-MODIFIED:20180726T100314Z
UID:3343-1533859200-1533945599@fengshuimariajosebonet.com
SUMMARY:Reestructura tu informacion del feng shui con 20 horas
DESCRIPTION:
URL:https://fengshuimariajosebonet.com/event/reestructura-tu-informacion-del-feng-shui-con-20-horas-4/
LOCATION:Albacete
END:VEVENT
BEGIN:VEVENT
DTSTART;VALUE=DATE:20180809
DTEND;VALUE=DATE:20180810
DTSTAMP:20260420T105717
CREATED:20180726T100133Z
LAST-MODIFIED:20180726T100133Z
UID:3340-1533772800-1533859199@fengshuimariajosebonet.com
SUMMARY:Reestructura tu informacion del feng shui con 20 horas
DESCRIPTION:
URL:https://fengshuimariajosebonet.com/event/reestructura-tu-informacion-del-feng-shui-con-20-horas-3/
LOCATION:Albacete
END:VEVENT
BEGIN:VEVENT
DTSTART;TZID=UTC:20180808T100000
DTEND;TZID=UTC:20180808T190000
DTSTAMP:20260420T105717
CREATED:20180710T094553Z
LAST-MODIFIED:20180710T094553Z
UID:3337-1533722400-1533754800@fengshuimariajosebonet.com
SUMMARY:Vacaciones para reorganizar lo que has oido\,leido del Feng Shui
DESCRIPTION:
URL:https://fengshuimariajosebonet.com/event/vacaciones-para-reorganizar-lo-que-has-oidoleido-del-feng-shui-3/
LOCATION:Almansa\, Almansa\, Albacete
END:VEVENT
BEGIN:VEVENT
DTSTART;TZID=UTC:20180807T100000
DTEND;TZID=UTC:20180807T190000
DTSTAMP:20260420T105717
CREATED:20180710T094457Z
LAST-MODIFIED:20180710T094457Z
UID:3335-1533636000-1533668400@fengshuimariajosebonet.com
SUMMARY:Vacaciones para reorganizar lo que has oido\,leido del Feng Shui
DESCRIPTION:
URL:https://fengshuimariajosebonet.com/event/vacaciones-para-reorganizar-lo-que-has-oidoleido-del-feng-shui-2/
LOCATION:Almansa\, Almansa\, Albacete
END:VEVENT
BEGIN:VEVENT
DTSTART;TZID=UTC:20180806T100000
DTEND;TZID=UTC:20180806T190000
DTSTAMP:20260420T105717
CREATED:20180710T094352Z
LAST-MODIFIED:20180710T094352Z
UID:3333-1533549600-1533582000@fengshuimariajosebonet.com
SUMMARY:Vacaciones para reorganizar lo que has oido\,leido del Feng Shui
DESCRIPTION:
URL:https://fengshuimariajosebonet.com/event/vacaciones-para-reorganizar-lo-que-has-oidoleido-del-feng-shui/
LOCATION:Albacete
END:VEVENT
BEGIN:VEVENT
DTSTART;VALUE=DATE:20180803
DTEND;VALUE=DATE:20180804
DTSTAMP:20260420T105717
CREATED:20180624T154429Z
LAST-MODIFIED:20180624T154429Z
UID:3313-1533254400-1533340799@fengshuimariajosebonet.com
SUMMARY:Reestructura tu informacion del feng shui con 20 horas
DESCRIPTION:
URL:https://fengshuimariajosebonet.com/event/reestructura-tu-informacion-del-feng-shui-con-20-horas-2/
LOCATION:Alginet\, sant josep 60\, Alginet\, 46230\, España
END:VEVENT
BEGIN:VEVENT
DTSTART;VALUE=DATE:20180802
DTEND;VALUE=DATE:20180803
DTSTAMP:20260420T105717
CREATED:20180624T154329Z
LAST-MODIFIED:20180624T154329Z
UID:3311-1533168000-1533254399@fengshuimariajosebonet.com
SUMMARY:Reestructura tu informacion del Feng shui con 20 horas
DESCRIPTION:
URL:https://fengshuimariajosebonet.com/event/reestructura-tu-informacion-del-feng-shui-con-20-horas/
LOCATION:Alginet\, Sant Josep 60\, Valencia\, Valencia\, 46230\, España
END:VEVENT
BEGIN:VEVENT
DTSTART;VALUE=DATE:20180801
DTEND;VALUE=DATE:20180802
DTSTAMP:20260420T105717
CREATED:20180624T154217Z
LAST-MODIFIED:20180624T154217Z
UID:3309-1533081600-1533167999@fengshuimariajosebonet.com
SUMMARY:reestrutura tu informacion del feng shui 20 horas llenas de muchic¡sima informacion.
DESCRIPTION:
URL:https://fengshuimariajosebonet.com/event/reestrutura-tu-informacion-del-feng-shui-20-horas-llenas-de-muchicsima-informacion/
LOCATION:Alginet\, sant josep 60\, Alginet\, 46230\, España
END:VEVENT
BEGIN:VEVENT
DTSTART;TZID=UTC:20180725T150000
DTEND;TZID=UTC:20180725T170000
DTSTAMP:20260420T105717
CREATED:20180703T112807Z
LAST-MODIFIED:20180703T112807Z
UID:3322-1532530800-1532538000@fengshuimariajosebonet.com
SUMMARY:Feng Shui Empresa
DESCRIPTION:
URL:https://fengshuimariajosebonet.com/event/feng-shui-empresa-3/
LOCATION:Centro SidneyPNL\, Federico García Lorca\, Nº 25 - Bajo\, Almansa\, Albacete\, 02640\, España
END:VEVENT
BEGIN:VEVENT
DTSTART;TZID=UTC:20180718T150000
DTEND;TZID=UTC:20180718T170000
DTSTAMP:20260420T105717
CREATED:20180703T112712Z
LAST-MODIFIED:20180703T112712Z
UID:3320-1531926000-1531933200@fengshuimariajosebonet.com
SUMMARY:Feng Shui Empresa
DESCRIPTION:
URL:https://fengshuimariajosebonet.com/event/feng-shui-empresa-2/
LOCATION:Centro SidneyPNL\, Federico García Lorca\, Nº 25 - Bajo\, Almansa\, Albacete\, 02640\, España
END:VEVENT
END:VCALENDAR