BEGIN:VCALENDAR
VERSION:2.0
PRODID:-//Feng shui Maria Jose Bonet - ECPv6.3.7//NONSGML v1.0//EN
CALSCALE:GREGORIAN
METHOD:PUBLISH
X-ORIGINAL-URL:https://fengshuimariajosebonet.com
X-WR-CALDESC:Eventos para Feng shui Maria Jose Bonet
REFRESH-INTERVAL;VALUE=DURATION:PT1H
X-Robots-Tag:noindex
X-PUBLISHED-TTL:PT1H
BEGIN:VTIMEZONE
TZID:UTC
BEGIN:STANDARD
TZOFFSETFROM:+0000
TZOFFSETTO:+0000
TZNAME:UTC
DTSTART:20180101T000000
END:STANDARD
END:VTIMEZONE
BEGIN:VEVENT
DTSTART;TZID=UTC:20190711T150000
DTEND;TZID=UTC:20190711T163000
DTSTAMP:20260420T081610
CREATED:20190614T164234Z
LAST-MODIFIED:20190614T164234Z
UID:3524-1562857200-1562862600@fengshuimariajosebonet.com
SUMMARY:Feng Shui para negocio
DESCRIPTION:
URL:https://fengshuimariajosebonet.com/event/feng-shui-para-negocio/
LOCATION:Albacete
END:VEVENT
BEGIN:VEVENT
DTSTART;TZID=UTC:20190710T150000
DTEND;TZID=UTC:20190710T163000
DTSTAMP:20260420T081610
CREATED:20190614T164152Z
LAST-MODIFIED:20190614T164152Z
UID:3522-1562770800-1562776200@fengshuimariajosebonet.com
SUMMARY:Feng Shui para negocios
DESCRIPTION:
URL:https://fengshuimariajosebonet.com/event/feng-shui-para-negocios-3/
LOCATION:Albacete
END:VEVENT
BEGIN:VEVENT
DTSTART;TZID=UTC:20190709T150000
DTEND;TZID=UTC:20190709T163000
DTSTAMP:20260420T081610
CREATED:20190614T164110Z
LAST-MODIFIED:20190614T164110Z
UID:3520-1562684400-1562689800@fengshuimariajosebonet.com
SUMMARY:Feng Shui para negocios
DESCRIPTION:
URL:https://fengshuimariajosebonet.com/event/feng-shui-para-negocios-2/
LOCATION:Albacete
END:VEVENT
BEGIN:VEVENT
DTSTART;TZID=UTC:20190708T150000
DTEND;TZID=UTC:20190708T163000
DTSTAMP:20260420T081610
CREATED:20190614T164022Z
LAST-MODIFIED:20190614T164022Z
UID:3518-1562598000-1562603400@fengshuimariajosebonet.com
SUMMARY:Feng Shui para negocios
DESCRIPTION:
URL:https://fengshuimariajosebonet.com/event/feng-shui-para-negocios/
LOCATION:Albacete
END:VEVENT
BEGIN:VEVENT
DTSTART;TZID=UTC:20190706T100000
DTEND;TZID=UTC:20190706T140000
DTSTAMP:20260420T081610
CREATED:20190614T163616Z
LAST-MODIFIED:20190614T163616Z
UID:3515-1562407200-1562421600@fengshuimariajosebonet.com
SUMMARY:Curso de Feng Shui
DESCRIPTION:
URL:https://fengshuimariajosebonet.com/event/curso-de-feng-shui-2/
LOCATION:Alginet\, sant josep 60\, Alginet\, 46230\, España
END:VEVENT
BEGIN:VEVENT
DTSTART;TZID=UTC:20190705T183000
DTEND;TZID=UTC:20190705T210000
DTSTAMP:20260420T081610
CREATED:20190614T163504Z
LAST-MODIFIED:20190614T163504Z
UID:3513-1562351400-1562360400@fengshuimariajosebonet.com
SUMMARY:Curso de Feng Shui
DESCRIPTION:
URL:https://fengshuimariajosebonet.com/event/curso-de-feng-shui/
LOCATION:Alginet\, sant josep 60\, Alginet\, 46230\, España
END:VEVENT
BEGIN:VEVENT
DTSTART;TZID=UTC:20190620T080000
DTEND;TZID=UTC:20190620T170000
DTSTAMP:20260420T081610
CREATED:20190528T164922Z
LAST-MODIFIED:20190528T164922Z
UID:3503-1561017600-1561050000@fengshuimariajosebonet.com
SUMMARY:BrincoCongreso  online
DESCRIPTION:
URL:https://fengshuimariajosebonet.com/event/brincocongreso-online-4/
LOCATION:Albacete
END:VEVENT
BEGIN:VEVENT
DTSTART;TZID=UTC:20190619T080000
DTEND;TZID=UTC:20190619T170000
DTSTAMP:20260420T081610
CREATED:20190528T164838Z
LAST-MODIFIED:20190528T164838Z
UID:3501-1560931200-1560963600@fengshuimariajosebonet.com
SUMMARY:BrincoCongreso  online
DESCRIPTION:
URL:https://fengshuimariajosebonet.com/event/brincocongreso-online-3/
LOCATION:Albacete
END:VEVENT
BEGIN:VEVENT
DTSTART;TZID=UTC:20190618T080000
DTEND;TZID=UTC:20190618T170000
DTSTAMP:20260420T081610
CREATED:20190528T164744Z
LAST-MODIFIED:20190528T164744Z
UID:3499-1560844800-1560877200@fengshuimariajosebonet.com
SUMMARY:BrincoCongreso online
DESCRIPTION:
URL:https://fengshuimariajosebonet.com/event/brincocongreso-online-2/
LOCATION:Albacete
END:VEVENT
BEGIN:VEVENT
DTSTART;TZID=UTC:20190617T080000
DTEND;TZID=UTC:20190617T170000
DTSTAMP:20260420T081610
CREATED:20190528T164702Z
LAST-MODIFIED:20190528T164702Z
UID:3497-1560758400-1560790800@fengshuimariajosebonet.com
SUMMARY:BrincoCongreso online
DESCRIPTION:
URL:https://fengshuimariajosebonet.com/event/brincocongreso-online/
LOCATION:Albacete
END:VEVENT
BEGIN:VEVENT
DTSTART;TZID=UTC:20190617T080000
DTEND;TZID=UTC:20190617T170000
DTSTAMP:20260420T081610
CREATED:20190528T164105Z
LAST-MODIFIED:20190528T164105Z
UID:3488-1560758400-1560790800@fengshuimariajosebonet.com
SUMMARY:Especial BrinCongreso
DESCRIPTION:
URL:https://fengshuimariajosebonet.com/event/especial-brincongreso/
LOCATION:Albacete
END:VEVENT
BEGIN:VEVENT
DTSTART;TZID=UTC:20190608T100000
DTEND;TZID=UTC:20190608T170000
DTSTAMP:20260420T081610
CREATED:20190519T153350Z
LAST-MODIFIED:20190519T153350Z
UID:3484-1559988000-1560013200@fengshuimariajosebonet.com
SUMMARY:Curso Feng Shui
DESCRIPTION:
URL:https://fengshuimariajosebonet.com/event/curso-feng-shui/
LOCATION:Albacete
END:VEVENT
BEGIN:VEVENT
DTSTART;TZID=UTC:20190518T100000
DTEND;TZID=UTC:20190518T140000
DTSTAMP:20260420T081610
CREATED:20190503T075521Z
LAST-MODIFIED:20190503T075521Z
UID:3471-1558173600-1558188000@fengshuimariajosebonet.com
SUMMARY:Iniciacion al Feng Shui
DESCRIPTION:
URL:https://fengshuimariajosebonet.com/event/iniciacion-al-feng-shui-4/
LOCATION:Albacete
END:VEVENT
BEGIN:VEVENT
DTSTART;TZID=UTC:20190413T100000
DTEND;TZID=UTC:20190413T190000
DTSTAMP:20260420T081610
CREATED:20190331T142104Z
LAST-MODIFIED:20190331T142104Z
UID:3461-1555149600-1555182000@fengshuimariajosebonet.com
SUMMARY:Feng Shui 1º Nivel
DESCRIPTION:
URL:https://fengshuimariajosebonet.com/event/feng-shui-1o-nivel/
LOCATION:Alginet\, sant josep 60\, Alginet\, 46230\, España
END:VEVENT
BEGIN:VEVENT
DTSTART;TZID=UTC:20190406T100000
DTEND;TZID=UTC:20190406T190000
DTSTAMP:20260420T081610
CREATED:20190326T163720Z
LAST-MODIFIED:20190326T163720Z
UID:3454-1554544800-1554577200@fengshuimariajosebonet.com
SUMMARY:Feng Shui 1 nivel
DESCRIPTION:
URL:https://fengshuimariajosebonet.com/event/feng-shui-1-nivel/
LOCATION:Albacete
END:VEVENT
BEGIN:VEVENT
DTSTART;TZID=UTC:20190405T180000
DTEND;TZID=UTC:20190405T200000
DTSTAMP:20260420T081610
CREATED:20190326T164217Z
LAST-MODIFIED:20190326T164217Z
UID:3458-1554487200-1554494400@fengshuimariajosebonet.com
SUMMARY:Conferencia en sideny pnl Almansa
DESCRIPTION:
URL:https://fengshuimariajosebonet.com/event/conferencia-en-sideny-pnl-almansa/
LOCATION:Almansa\, Almansa\, Albacete
END:VEVENT
BEGIN:VEVENT
DTSTART;TZID=UTC:20190322T180000
DTEND;TZID=UTC:20190322T200000
DTSTAMP:20260420T081610
CREATED:20190319T075905Z
LAST-MODIFIED:20190319T075905Z
UID:3447-1553277600-1553284800@fengshuimariajosebonet.com
SUMMARY:Conferencia de calidad de vida
DESCRIPTION:
URL:https://fengshuimariajosebonet.com/event/conferencia-de-calidad-de-vida/
LOCATION:Albacete
END:VEVENT
BEGIN:VEVENT
DTSTART;TZID=UTC:20190316T090000
DTEND;TZID=UTC:20190316T130000
DTSTAMP:20260420T081610
CREATED:20190307T121754Z
LAST-MODIFIED:20190307T121754Z
UID:3440-1552726800-1552741200@fengshuimariajosebonet.com
SUMMARY:Introducción al Feng Shui 4 horas
DESCRIPTION:
URL:https://fengshuimariajosebonet.com/event/introduccion-al-feng-shui-4-horas/
LOCATION:Albacete
END:VEVENT
BEGIN:VEVENT
DTSTART;VALUE=DATE:20190209
DTEND;VALUE=DATE:20190210
DTSTAMP:20260420T081610
CREATED:20181004T135452Z
LAST-MODIFIED:20181004T135534Z
UID:3377-1549670400-1549756799@fengshuimariajosebonet.com
SUMMARY:Formación Terapeutas del Hábitat
DESCRIPTION:Formación  Terapeutas del Hábitat \n \nReserva tu plaza 655880900
URL:https://fengshuimariajosebonet.com/event/3377/
LOCATION:Albacete
END:VEVENT
BEGIN:VEVENT
DTSTART;TZID=UTC:20190203T100000
DTEND;TZID=UTC:20190203T190000
DTSTAMP:20260420T081610
CREATED:20190107T154300Z
LAST-MODIFIED:20190107T154300Z
UID:3419-1549188000-1549220400@fengshuimariajosebonet.com
SUMMARY:Espacio función 2 nivel
DESCRIPTION:
URL:https://fengshuimariajosebonet.com/event/espacio-funcion-2-nivel/
LOCATION:Alginet\, sant josep 60\, Alginet\, 46230\, España
END:VEVENT
BEGIN:VEVENT
DTSTART;TZID=UTC:20190201T173000
DTEND;TZID=UTC:20190201T200000
DTSTAMP:20260420T081610
CREATED:20190129T174940Z
LAST-MODIFIED:20190129T174940Z
UID:3431-1549042200-1549051200@fengshuimariajosebonet.com
SUMMARY:Taller de feng shui habitación de niños 0 -18 años
DESCRIPTION:
URL:https://fengshuimariajosebonet.com/event/taller-de-feng-shui-habitacion-de-ninos-0-18-anos/
LOCATION:Albacete
END:VEVENT
BEGIN:VEVENT
DTSTART;TZID=UTC:20190130T150000
DTEND;TZID=UTC:20190130T190000
DTSTAMP:20260420T081610
CREATED:20190107T164154Z
LAST-MODIFIED:20190107T164302Z
UID:3421-1548860400-1548874800@fengshuimariajosebonet.com
SUMMARY:Miercoles en Almansa\, mejora tu vitalidad física y del espacio
DESCRIPTION:
URL:https://fengshuimariajosebonet.com/event/miercoles-en-almansa-mejora-tu-vitalidad-fisica-y-del-espacio/
LOCATION:Almansa\, Almansa\, Albacete
END:VEVENT
BEGIN:VEVENT
DTSTART;TZID=UTC:20190123T150000
DTEND;TZID=UTC:20190123T190000
DTSTAMP:20260420T081610
CREATED:20190107T164445Z
LAST-MODIFIED:20190107T164445Z
UID:3423-1548255600-1548270000@fengshuimariajosebonet.com
SUMMARY:Miercoles en Almansa\, mejora tu vitalidad física y del espacio
DESCRIPTION:
URL:https://fengshuimariajosebonet.com/event/miercoles-en-almansa-mejora-tu-vitalidad-fisica-y-del-espacio-2/
LOCATION:Albacete
END:VEVENT
BEGIN:VEVENT
DTSTART;TZID=UTC:20190120T100000
DTEND;TZID=UTC:20190120T190000
DTSTAMP:20260420T081610
CREATED:20181210T115728Z
LAST-MODIFIED:20181210T115728Z
UID:3406-1547978400-1548010800@fengshuimariajosebonet.com
SUMMARY:Introduccion al Feng Shui nivel 1º
DESCRIPTION:
URL:https://fengshuimariajosebonet.com/event/introduccion-al-feng-shui-nivel-1o/
LOCATION:Alginet\, sant josep 60\, Alginet\, 46230\, España
END:VEVENT
BEGIN:VEVENT
DTSTART;TZID=UTC:20190116T110000
DTEND;TZID=UTC:20190116T190000
DTSTAMP:20260420T081610
CREATED:20190107T164606Z
LAST-MODIFIED:20190107T164606Z
UID:3425-1547636400-1547665200@fengshuimariajosebonet.com
SUMMARY:Miercoles en Almansa\, mejora tu vitalidad física y del espacio
DESCRIPTION:
URL:https://fengshuimariajosebonet.com/event/miercoles-en-almansa-mejora-tu-vitalidad-fisica-y-del-espacio-3/
LOCATION:Albacete
END:VEVENT
BEGIN:VEVENT
DTSTART;TZID=UTC:20190109T110000
DTEND;TZID=UTC:20190109T190000
DTSTAMP:20260420T081610
CREATED:20190107T164740Z
LAST-MODIFIED:20190107T164740Z
UID:3427-1547031600-1547060400@fengshuimariajosebonet.com
SUMMARY:Miercoles en Almansa\, mejora tu vitalidad física y del espacio
DESCRIPTION:
URL:https://fengshuimariajosebonet.com/event/miercoles-en-almansa-mejora-tu-vitalidad-fisica-y-del-espacio-4/
LOCATION:Albacete
END:VEVENT
BEGIN:VEVENT
DTSTART;TZID=UTC:20181212T190000
DTEND;TZID=UTC:20181212T210000
DTSTAMP:20260420T081610
CREATED:20181211T170448Z
LAST-MODIFIED:20181211T170448Z
UID:3410-1544641200-1544648400@fengshuimariajosebonet.com
SUMMARY:Taller de Feng Shui y la Navidad
DESCRIPTION:
URL:https://fengshuimariajosebonet.com/event/taller-de-feng-shui-y-la-navidad-2/
LOCATION:Almansa\, Federico Garcia Lorca n25\, Albacete\, Albacete\, España
END:VEVENT
BEGIN:VEVENT
DTSTART;TZID=UTC:20181201T170000
DTEND;TZID=UTC:20181201T200000
DTSTAMP:20260420T081610
CREATED:20181111T184939Z
LAST-MODIFIED:20181111T184939Z
UID:3395-1543683600-1543694400@fengshuimariajosebonet.com
SUMMARY:Taller Feng Shui y la navidad
DESCRIPTION:
URL:https://fengshuimariajosebonet.com/event/taller-feng-shui-y-la-navidad/
LOCATION:Alginet\, sant josep 60\, Alginet\, 46230\, España
END:VEVENT
BEGIN:VEVENT
DTSTART;VALUE=DATE:20181118
DTEND;VALUE=DATE:20181119
DTSTAMP:20260420T081610
CREATED:20181111T183841Z
LAST-MODIFIED:20181111T183841Z
UID:3391-1542499200-1542585599@fengshuimariajosebonet.com
SUMMARY:Introducción al Feng Shui
DESCRIPTION:
URL:https://fengshuimariajosebonet.com/event/introduccion-al-feng-shui-3/
LOCATION:Almansa\, Almansa\, Albacete
END:VEVENT
BEGIN:VEVENT
DTSTART;TZID=UTC:20181117T100000
DTEND;TZID=UTC:20181117T130000
DTSTAMP:20260420T081610
CREATED:20181111T184100Z
LAST-MODIFIED:20181111T184100Z
UID:3393-1542448800-1542459600@fengshuimariajosebonet.com
SUMMARY:Orden y desorden en la casa
DESCRIPTION:
URL:https://fengshuimariajosebonet.com/event/orden-y-desorden-en-la-casa/
LOCATION:Albacete
END:VEVENT
END:VCALENDAR