BEGIN:VCALENDAR
VERSION:2.0
PRODID:-//Feng shui Maria Jose Bonet - ECPv6.3.7//NONSGML v1.0//EN
CALSCALE:GREGORIAN
METHOD:PUBLISH
X-ORIGINAL-URL:https://fengshuimariajosebonet.com
X-WR-CALDESC:Eventos para Feng shui Maria Jose Bonet
REFRESH-INTERVAL;VALUE=DURATION:PT1H
X-Robots-Tag:noindex
X-PUBLISHED-TTL:PT1H
BEGIN:VTIMEZONE
TZID:UTC
BEGIN:STANDARD
TZOFFSETFROM:+0000
TZOFFSETTO:+0000
TZNAME:UTC
DTSTART:20260101T000000
END:STANDARD
END:VTIMEZONE
BEGIN:VEVENT
DTSTART;TZID=UTC:20260323T093000
DTEND;TZID=UTC:20260323T120000
DTSTAMP:20260419T192041
CREATED:20260227T124836Z
LAST-MODIFIED:20260227T124836Z
UID:9905-1774258200-1774267200@fengshuimariajosebonet.com
SUMMARY:Feng Shui 2 nivel
DESCRIPTION:
URL:https://fengshuimariajosebonet.com/event/feng-shui-2-nivel-6/
END:VEVENT
BEGIN:VEVENT
DTSTART;TZID=UTC:20260325T093000
DTEND;TZID=UTC:20260325T120000
DTSTAMP:20260419T192041
CREATED:20260227T124432Z
LAST-MODIFIED:20260227T124739Z
UID:9899-1774431000-1774440000@fengshuimariajosebonet.com
SUMMARY:Feng Shui 1 nivel
DESCRIPTION:
URL:https://fengshuimariajosebonet.com/event/9899/
END:VEVENT
BEGIN:VEVENT
DTSTART;TZID=UTC:20260330T093000
DTEND;TZID=UTC:20260330T120000
DTSTAMP:20260419T192041
CREATED:20260227T124931Z
LAST-MODIFIED:20260227T124931Z
UID:9907-1774863000-1774872000@fengshuimariajosebonet.com
SUMMARY:Feng Shui 2 nivel
DESCRIPTION:
URL:https://fengshuimariajosebonet.com/event/feng-shui-2-nivel-7/
END:VEVENT
END:VCALENDAR