BEGIN:VCALENDAR
VERSION:2.0
PRODID:-//Feng shui Maria Jose Bonet - ECPv6.3.7//NONSGML v1.0//EN
CALSCALE:GREGORIAN
METHOD:PUBLISH
X-ORIGINAL-URL:https://fengshuimariajosebonet.com
X-WR-CALDESC:Eventos para Feng shui Maria Jose Bonet
REFRESH-INTERVAL;VALUE=DURATION:PT1H
X-Robots-Tag:noindex
X-PUBLISHED-TTL:PT1H
BEGIN:VTIMEZONE
TZID:UTC
BEGIN:STANDARD
TZOFFSETFROM:+0000
TZOFFSETTO:+0000
TZNAME:UTC
DTSTART:20210101T000000
END:STANDARD
END:VTIMEZONE
BEGIN:VEVENT
DTSTART;TZID=UTC:20210422T160000
DTEND;TZID=UTC:20210422T190000
DTSTAMP:20260423T062705
CREATED:20210409T181412Z
LAST-MODIFIED:20210409T181412Z
UID:4005-1619107200-1619118000@fengshuimariajosebonet.com
SUMMARY:Feng Shui 1º
DESCRIPTION:
URL:https://fengshuimariajosebonet.com/event/feng-shui-1o-2/
LOCATION:Alginet\, sant josep 60\, Alginet\, 46230\, España
END:VEVENT
END:VCALENDAR