BEGIN:VCALENDAR
VERSION:2.0
PRODID:-//Feng shui Maria Jose Bonet - ECPv6.3.7//NONSGML v1.0//EN
CALSCALE:GREGORIAN
METHOD:PUBLISH
X-WR-CALNAME:Feng shui Maria Jose Bonet
X-ORIGINAL-URL:https://fengshuimariajosebonet.com
X-WR-CALDESC:Eventos para Feng shui Maria Jose Bonet
REFRESH-INTERVAL;VALUE=DURATION:PT1H
X-Robots-Tag:noindex
X-PUBLISHED-TTL:PT1H
BEGIN:VTIMEZONE
TZID:UTC
BEGIN:STANDARD
TZOFFSETFROM:+0000
TZOFFSETTO:+0000
TZNAME:UTC
DTSTART:20210101T000000
END:STANDARD
END:VTIMEZONE
BEGIN:VEVENT
DTSTART;TZID=UTC:20210507T180000
DTEND;TZID=UTC:20210507T190000
DTSTAMP:20260423T062342
CREATED:20210427T174322Z
LAST-MODIFIED:20210427T174323Z
UID:4017-1620410400-1620414000@fengshuimariajosebonet.com
SUMMARY:Abre los ojos al Feng Shui
DESCRIPTION:Al aplicar la técnica del Feng Shui en el hábitat\, decoración\, colores\, muebles\, nos rodeamos de mayor equilibrio\, mayor armonía en nosotros y en nuestra familia. Reserva plaza +34 655880900
URL:https://fengshuimariajosebonet.com/event/abre-los-ojos-al-feng-shui/
END:VEVENT
BEGIN:VEVENT
DTSTART;VALUE=DATE:20210515
DTEND;VALUE=DATE:20210516
DTSTAMP:20260423T062342
CREATED:20210413T111359Z
LAST-MODIFIED:20210413T111400Z
UID:4009-1621036800-1621123199@fengshuimariajosebonet.com
SUMMARY:Feng Shui
DESCRIPTION:
URL:https://fengshuimariajosebonet.com/event/feng-shui/
LOCATION:Alginet\, sant josep 60\, Alginet\, 46230\, España
END:VEVENT
BEGIN:VEVENT
DTSTART;VALUE=DATE:20210515
DTEND;VALUE=DATE:20210516
DTSTAMP:20260423T062342
CREATED:20210423T155311Z
LAST-MODIFIED:20210423T155426Z
UID:4012-1621036800-1621123199@fengshuimariajosebonet.com
SUMMARY:Feng Shui
DESCRIPTION:#Armonizar los espacios \n 
URL:https://fengshuimariajosebonet.com/event/feng-shui-2/
LOCATION:Alginet\, sant josep 60\, Alginet\, 46230\, España
END:VEVENT
END:VCALENDAR