BEGIN:VCALENDAR
VERSION:2.0
PRODID:-//Feng shui Maria Jose Bonet - ECPv6.3.7//NONSGML v1.0//EN
CALSCALE:GREGORIAN
METHOD:PUBLISH
X-ORIGINAL-URL:https://fengshuimariajosebonet.com
X-WR-CALDESC:Eventos para Feng shui Maria Jose Bonet
REFRESH-INTERVAL;VALUE=DURATION:PT1H
X-Robots-Tag:noindex
X-PUBLISHED-TTL:PT1H
BEGIN:VTIMEZONE
TZID:UTC
BEGIN:STANDARD
TZOFFSETFROM:+0000
TZOFFSETTO:+0000
TZNAME:UTC
DTSTART:20260101T000000
END:STANDARD
END:VTIMEZONE
BEGIN:VEVENT
DTSTART;TZID=UTC:20260311T093000
DTEND;TZID=UTC:20260311T120000
DTSTAMP:20260419T191853
CREATED:20260227T124251Z
LAST-MODIFIED:20260227T124251Z
UID:9895-1773221400-1773230400@fengshuimariajosebonet.com
SUMMARY:Feng shui 1 nivel
DESCRIPTION:
URL:https://fengshuimariajosebonet.com/event/feng-shui-1-nivel-6/
END:VEVENT
END:VCALENDAR