BEGIN:VCALENDAR
VERSION:2.0
PRODID:-//Feng shui Maria Jose Bonet - ECPv6.3.7//NONSGML v1.0//EN
CALSCALE:GREGORIAN
METHOD:PUBLISH
X-WR-CALNAME:Feng shui Maria Jose Bonet
X-ORIGINAL-URL:https://fengshuimariajosebonet.com
X-WR-CALDESC:Eventos para Feng shui Maria Jose Bonet
REFRESH-INTERVAL;VALUE=DURATION:PT1H
X-Robots-Tag:noindex
X-PUBLISHED-TTL:PT1H
BEGIN:VTIMEZONE
TZID:UTC
BEGIN:STANDARD
TZOFFSETFROM:+0000
TZOFFSETTO:+0000
TZNAME:UTC
DTSTART:20250101T000000
END:STANDARD
END:VTIMEZONE
BEGIN:VEVENT
DTSTART;TZID=UTC:20251122T160000
DTEND;TZID=UTC:20251122T190000
DTSTAMP:20260419T231942
CREATED:20251028T121048Z
LAST-MODIFIED:20251028T121048Z
UID:9810-1763827200-1763838000@fengshuimariajosebonet.com
SUMMARY:Feng shui y la navidad online
DESCRIPTION:Vuelve a tener la ilusión de cuando eras una niñ@. \n-Que tu casa empiece a trabajar para los logros del año nuevo. \n-Dos tradiciones con el mismo objetivo. \n-Activa la casa el próximo año que sea un flujo de oportunidades. \n-Convierte estas fiestas en algo especial. \n55 euros
URL:https://fengshuimariajosebonet.com/event/feng-shui-y-la-navidad-online-22-de-noviembre/
END:VEVENT
END:VCALENDAR