BEGIN:VCALENDAR
VERSION:2.0
PRODID:-//Feng shui Maria Jose Bonet - ECPv6.3.7//NONSGML v1.0//EN
CALSCALE:GREGORIAN
METHOD:PUBLISH
X-ORIGINAL-URL:https://fengshuimariajosebonet.com
X-WR-CALDESC:Eventos para Feng shui Maria Jose Bonet
REFRESH-INTERVAL;VALUE=DURATION:PT1H
X-Robots-Tag:noindex
X-PUBLISHED-TTL:PT1H
BEGIN:VTIMEZONE
TZID:UTC
BEGIN:STANDARD
TZOFFSETFROM:+0000
TZOFFSETTO:+0000
TZNAME:UTC
DTSTART:20250101T000000
END:STANDARD
END:VTIMEZONE
BEGIN:VEVENT
DTSTART;TZID=UTC:20250528T213000
DTEND;TZID=UTC:20250528T233000
DTSTAMP:20260420T063704
CREATED:20250421T095258Z
LAST-MODIFIED:20250421T095258Z
UID:6243-1748467800-1748475000@fengshuimariajosebonet.com
SUMMARY:las bases del feng shui
DESCRIPTION:Curso Feng Shui – ON LINE Miércoles 7\, 14\, 21 y 28 mayo 2025 \n \nCURSO FENG SHUI ON LINE Un curso práctico donde aprenderás a crear espacios que elimines obstáculos y favorezcan tus objetivos \nAprende desde la base \n\nCrear tu espacio  eliminando obstáculos\nFavorecer tus objetivos\nA reconocer los elementos desarmónicos\nConvertir tu hogar en una casa de paz equilibrio y prosperidad\nArmoniza tu hogar así armonizarás tu vida y la de tu familia\n\nMiércoles 7-14-21-28 de mayo 2025 \nHorario: De 21\,30 a 24 horas \nInstructor: M José Bonet Canet
URL:https://fengshuimariajosebonet.com/event/las-bases-del-feng-shui-9/
END:VEVENT
END:VCALENDAR