BEGIN:VCALENDAR
VERSION:2.0
PRODID:-//Feng shui Maria Jose Bonet - ECPv6.3.7//NONSGML v1.0//EN
CALSCALE:GREGORIAN
METHOD:PUBLISH
X-WR-CALNAME:Feng shui Maria Jose Bonet
X-ORIGINAL-URL:https://fengshuimariajosebonet.com
X-WR-CALDESC:Eventos para Feng shui Maria Jose Bonet
REFRESH-INTERVAL;VALUE=DURATION:PT1H
X-Robots-Tag:noindex
X-PUBLISHED-TTL:PT1H
BEGIN:VTIMEZONE
TZID:UTC
BEGIN:STANDARD
TZOFFSETFROM:+0000
TZOFFSETTO:+0000
TZNAME:UTC
DTSTART:20200101T000000
END:STANDARD
END:VTIMEZONE
BEGIN:VEVENT
DTSTART;VALUE=DATE:20201107
DTEND;VALUE=DATE:20201108
DTSTAMP:20260425T152622
CREATED:20201029T170534Z
LAST-MODIFIED:20201029T170534Z
UID:3982-1604707200-1604793599@fengshuimariajosebonet.com
SUMMARY:Feng Shui 1º nivel
DESCRIPTION:Feng Shui empieza desde las raíces.                                                                                                                 Benefíciate de tu espacio donde están tus pertenecías\, donde vives.
URL:https://fengshuimariajosebonet.com/event/feng-shui-1o-nivel-3/
LOCATION:Alginet\, sant josep 60\, Alginet\, 46230\, España
END:VEVENT
END:VCALENDAR