BEGIN:VCALENDAR
VERSION:2.0
PRODID:-//Feng shui Maria Jose Bonet - ECPv6.3.7//NONSGML v1.0//EN
CALSCALE:GREGORIAN
METHOD:PUBLISH
X-WR-CALNAME:Feng shui Maria Jose Bonet
X-ORIGINAL-URL:https://fengshuimariajosebonet.com
X-WR-CALDESC:Eventos para Feng shui Maria Jose Bonet
REFRESH-INTERVAL;VALUE=DURATION:PT1H
X-Robots-Tag:noindex
X-PUBLISHED-TTL:PT1H
BEGIN:VTIMEZONE
TZID:UTC
BEGIN:STANDARD
TZOFFSETFROM:+0000
TZOFFSETTO:+0000
TZNAME:UTC
DTSTART:20200101T000000
END:STANDARD
END:VTIMEZONE
BEGIN:VEVENT
DTSTART;TZID=UTC:20200308T100000
DTEND;TZID=UTC:20200308T190000
DTSTAMP:20260426T041151
CREATED:20200227T122405Z
LAST-MODIFIED:20200227T122405Z
UID:3694-1583661600-1583694000@fengshuimariajosebonet.com
SUMMARY:Introduccion al feng Shui 1º nivel
DESCRIPTION:Plazas limitadas\, reserva tu plaza\, trae el plano de tu casa y practica los ejercicios en tu plano.\nUn curso práctico donde aprenderás a crear espacios que elimines\nobstáculos y favorezcan tus objetivos\nDía: domingo 8 de marzo de 2020\nHorario: De 10 a 14 y 15\,30 a 18.30\nLugar:\nC/ Sant Josep 60 1º\, Alginet -Valencia Metro Villanueva de Castellon\nTeléfono de información: 655.880.900\nInscripción:\nPrecio: 120 euros Inscripción anticipada. (Plazas limitadas)\nTemario\nwww.fengshuieuropa.com/cursos.html\nRequisitos\nNo se precisan conocimientos previos\,\nTraer plano de la vivienda (opcional)\nMaterial:\nSe entrega un dossier teórico – práctico y mapa Bagua\nCurso avalado por la Escuela Europea de Feng Shui con certificado de\nasistencia\nInformación http://www.fengshuiesmralda.com\nTel. 655.880.900
URL:https://fengshuimariajosebonet.com/event/introduccion-al-feng-shui-1o-nivel-2/
END:VEVENT
END:VCALENDAR